{"text_format":"1","workbook":"xlsx","n_sheets":5,"sheets":["Instructions","ND-CPA-305","Table 1","Photos Sheet","ND-Frost Dates"],"not_rendered":{"charts":0,"images":0,"macros":1,"external_links":0,"defined_names":4,"comments":1,"pivot_tables":0},"unopened":[],"bounds":{"document_bytes":16777216,"sheet_cells":100000,"rows_first":2000,"rows_last":500,"rows_between":2000,"halvings":0,"cell_chars":16384,"cell_head_chars":4096},"cells_cut":0,"cells_raw":0,"read":"whole","date_system":"1900"}

{"sheet":"Instructions","index":0,"n_rows":63,"n_cols":1,"rows_kept":63,"cut":false,"hidden":false,"merged":[[0,0,0,8],[13,0,13,8],[56,0,56,8],[36,0,36,8],[38,0,38,8],[23,0,23,8],[44,0,44,8],[40,0,40,8],[21,0,21,8],[48,0,48,8],[50,0,50,8],[52,0,52,8],[27,0,27,8],[42,0,42,8],[62,0,62,8],[3,0,3,8],[5,0,5,8],[7,0,7,8],[11,0,11,8],[9,0,9,8],[17,0,17,8],[19,0,19,8],[60,0,60,8]]}
["Instructions for the ND-CPA-305 Cover Crop Design Workbook"]
[]
["Cover Crop Design Worksheet"]
["The sheet is set up to enter data required for documentation or design in the yellow-colored cells.  Blue colored cells are for optional documentation that may be helpful to report or track data."]
[]
["The sheet is protected and includes some choice lists, look up functions and calculations to assist the planner in designing a successful cover crop planting."]
[]
["You can move thru the worksheet with the {TAB} key, hitting {ENTER} after data entry or with the mouse by clicking on the cell that you want to work in."]
[]
["There are a number of help comments noted with the small red triangle in the upper right-hand corner of a cell."]
[]
["The ND-CPA-305 will print out on two pages, the Cover Crop Design Worksheet and the Cover Crop Certification Worksheet."]
[]
["You may save the ND-CPA-305 to the producer file as needed.  This is optional, based on the Areas guidance and/or the DC's discretion.  Perform a Save As function so you do not overwrite the workbook."]
[]
["Producers Objective(s)"]
[]
["This section is for the producer to provide his or her top resource concern(s) to be addressed by use of a cover crop.  Usually a cover crop will address more than one resource concern.  Have the producer indicate the various resource concerns with an \"X\".  You do not have to indicate more than one."]
[]
["If the objective is erosion control, include appropriate soil loss estimates (before and after installation of the cover crop).  These numbers are entered in Cells D22 and H22."]
[]
["If the objective is to protect a crop from soil abrasion or blow out, select the crop or crop type to be protected in Cell L17.  The growing crop soil loss tolerance value will be shown in the cell below the crop.  Note this is the planning soil loss tolerance \"T\" used in the management period wind erosion calculation."]
[]
["If an objective is to increase soil organic matter content, enter the Soil Conditioning Index prior to and after installation of the cover crop in Cells D23 and H23."]
[]
["Enter the field design soil mapunit name and/or symbol in cell A19."]
[]
["To indicate average first and last frost dates for the area of the planned cover crop select the reporting station / county from the choice list in Cell A27.  This information can be used to help select frost-tolerant species for the seeding mixture."]
[]
["Select seeding method from choice list in cell C29. "]
["Select planned seeding window from choice list in cell C30. "]
["Indicate wether fertilizer and / or inoculant application is planned in cell H29."]
["Select the planned cover crop termination method in cell I30."]
[]
["Planned Cover Crop Mixture  and Calculations"]
[]
["In order to get the cover crop species mix design area to work, the planner must enter the acres in cell H7 in the top section.  This will populate the acres in this section.  The same acres will be applied to each cover crop specie in the planned seeding mix."]
[]
["In column A, select the cover crop specie and enter the variety if known, in column B.  Then enter the percent of the mix for the specie.  The worksheet will calculate the pounds needed and provide additional information for the crop.  Repeat for each specie to be included in the mix."]
[]
["The Total Pounds for the mix is calculated.  This is based on the planned acres times the Pounds per Acre to be seeded by each specie.  Also the Average Seeding Depth in inches is calculated.  This is a straight average of the recommended seeding depths for each specie."]
[]
["Seed size is noted for the producer to consider whether to mix all species together or perhaps use separate seed boxes to permit the best seed metering and coverage with the equipment they have."]
[]
["The recommended seeding rates are for a single species seeding that would be drilled, not broadcast.  If broadcasting or spreading the cover crop on the surface and following with light incorporation, most references recommend increasing the seeding rates by 25 to 50 percent to ensure an even, effective cover.  The worksheet does not account for this increased seeding rate, it is the responsibility planner / producer to ensure adequate seed will be planted to meet the site conditions and planned purpose."]
[]
["Cover Crop Certification Sheet"]
[]
["Immediately below the Cover Crop Design section, scroll down the to find the Certification Sheet.  The top section with producer information is automatically populated from the data entered in the Design section."]
[]
["The person completing the checkout / certification will fill out the necessary blanks in order to document the installation of the practice.  "]
[]
["There is space for both the producer and NRCS signatures at the bottom, along with an area for comments or notes."]
[]
["TABLE 1 Cover Crop - Common Species and Properties"]
[]
["This table provides a lot of information on several common cover crops for use in North Dakota.  This list is not all inclusive however, but it intended to give sufficient guidance to producers and planners to design an effective cover crop system for their operation.  "]
[]
["There are two macro buttons available, they are located on the upper left-hand corner.  "]
[]
["Sort for Purposes - This will sort the table by the planned purpose indicated on the ND-CPA-305 sheet.  This will sort the species list by the rating (i.e.. Good to Poor) for the purpose, to aid in the selection of the cover crop species."]
[]
["Return to Alphabetical Order - Clicking this button will simply return Table 1 back to alphabetical order by species."]

{"sheet":"ND-CPA-305","index":1,"n_rows":154,"n_cols":47,"rows_kept":154,"cut":false,"hidden":false,"merged":[[4,1,4,4],[62,3,62,4],[62,0,62,2],[58,1,58,2],[67,0,67,2],[68,0,68,2],[72,0,72,2],[73,0,73,2],[69,0,69,2],[70,0,70,2],[71,0,71,2],[61,0,61,13],[64,3,64,4],[65,3,65,4],[68,11,68,13],[65,7,65,9],[24,2,24,6],[24,7,24,12],[19,3,19,6],[16,2,16,9],[43,12,43,13],[26,0,26,1],[26,4,26,6],[26,7,26,9],[73,11,73,12],[66,10,66,13],[71,7,72,13],[70,7,70,13],[73,7,73,8],[73,9,73,10],[69,10,69,13],[66,0,66,2],[65,0,65,2],[108,20,110,20],[109,41,111,45],[32,14,33,14],[79,7,79,13],[32,3,33,3],[36,10,36,11],[35,4,35,5],[34,10,34,11],[35,10,35,11],[81,0,86,13],[79,3,79,4],[76,0,76,2],[76,3,76,4],[77,0,77,2],[77,3,77,4],[78,0,78,2],[78,3,78,4],[74,3,74,4],[75,3,75,4],[78,5,78,6],[74,5,74,6],[63,7,63,10],[63,5,63,6],[64,5,64,6],[65,5,65,6],[57,1,57,5],[37,12,37,13],[39,10,39,11],[38,8,38,9],[32,10,33,11],[43,4,43,5],[32,4,33,5],[44,8,44,9],[41,12,41,13],[42,4,42,5],[41,10,41,11],[42,10,42,11],[46,4,46,7],[76,5,76,6],[80,7,80,9],[80,10,80,13],[67,11,67,12],[71,3,71,4],[69,3,69,4],[68,5,68,6],[69,5,69,6],[66,5,66,6],[67,5,67,6],[66,3,66,4],[72,3,72,4],[70,3,70,4],[70,5,70,6],[71,5,71,6],[78,10,78,12],[77,5,77,6],[73,5,73,6],[75,5,75,6],[69,7,69,9],[76,11,76,13],[74,7,75,13],[64,10,64,13],[65,10,65,13],[67,3,67,4],[68,3,68,4],[0,0,0,13],[12,5,12,6],[13,5,13,6],[14,5,14,6],[4,7,4,9],[29,4,29,7],[40,12,40,13],[20,3,20,6],[21,3,21,6],[22,3,22,6],[5,1,5,2],[21,0,21,2],[22,0,22,2],[36,4,36,5],[32,0,33,0],[32,1,33,1],[31,0,31,13],[37,8,37,9],[38,12,38,13],[39,12,39,13],[25,0,25,1],[16,11,16,13],[3,1,3,4],[9,5,9,6],[10,5,10,6],[11,5,11,6],[14,1,14,4],[29,2,29,3],[28,4,28,6],[17,0,17,1],[28,0,28,1],[29,0,29,1],[3,7,3,8],[5,7,5,8],[19,7,19,10],[20,7,20,10],[21,7,21,10],[22,7,22,10],[18,0,19,1],[15,1,15,3],[15,5,15,6],[17,7,17,10],[25,7,25,9],[26,10,26,12],[63,3,63,4],[62,5,62,6],[52,2,52,6],[53,2,53,6],[49,0,50,13],[51,0,51,13],[43,10,43,11],[43,8,43,9],[29,8,29,10],[47,0,47,1],[37,10,37,11],[35,8,35,9],[40,4,40,5],[37,4,37,5],[39,8,39,9],[34,4,34,5],[38,10,38,11],[41,8,41,9],[40,8,40,9],[41,4,41,5],[44,4,44,5],[42,8,42,9],[38,4,38,5],[39,4,39,5],[56,10,56,13],[56,1,56,6],[56,7,56,9],[57,7,57,9],[58,6,58,9],[36,12,36,13],[58,10,58,13],[42,12,42,13],[45,12,45,13],[40,10,40,11],[36,8,36,9],[46,8,46,9],[28,7,28,10],[44,12,44,13],[25,4,25,6],[45,4,45,5],[34,8,34,9],[32,8,33,9],[28,2,28,3],[35,12,35,13],[34,12,34,13],[32,2,33,2],[32,6,33,6],[32,12,33,13],[32,7,33,7],[25,10,25,12],[25,2,25,3],[26,2,26,3],[112,42,112,43],[112,44,112,45],[44,10,44,11],[88,5,89,9],[94,0,95,3],[94,5,95,9],[88,0,89,3],[73,3,73,4],[75,0,75,2],[74,0,74,2],[107,18,110,18],[107,19,110,19],[107,16,110,16],[107,17,110,17],[54,0,54,13],[67,7,67,10],[62,7,62,13],[57,10,57,13],[59,10,59,11],[72,5,72,6],[45,8,45,9],[45,10,45,11],[64,0,64,2],[63,0,63,2]]}
["Cover Crop Design Worksheet"]
["Note: Yellow areas indicate required data.  Blue areas indicate optional data."]
[]
["Name:",null,null,null,null,null,"Program:",null,null,null,null,null,"Quarter:"]
["Address:",null,null,null,null,null,"Contract #:",null,null,null,null,null,"Section:"]
["Field Number:",null,null,null,null,null,"CIN:",null,null,null,null,null,"Township:"]
["Irrigated: ",null,null,null,null,null,"Acres:",null,null,null,null,null,"Range:"]
["Indicate the decision-maker's objective(s) for applying cover crop, with an \"X\" beside each purpose:"]
[]
[null,"Reduce Erosion / Particulates",null,null,null,null,null,"Provide Supplemental Hay"]
[null,"Crop Abrasion / Blow-out *",null,null,null,null,null,"Provide Supplemental Grazing"]
[null,"Biological Nitrogen fixation",null,null,null,null,null,"Soil Moisture (conservation or utilization)"]
[null,"Pest Suppression",null,null,null,null,null,"Attract Beneficial Insects"]
[null,"Increase Soil Organic Matter ",null,null,null,null,null,"Minimize and Reduce Soil Compaction"]
[null,"Improve Soil Structure/Biodiversity",null,null,null,null,null,"Capture, Recycle, Redistribute Nutrients"]
[null,"Salinity Tolerance",null,null,null,null,null,"Frost Tolerance"]
[null,null,"* If crop abrasion by wind erosion is a concern, note:",null,null,null,null,null,null,null,"Crop:"]
["Design soil map unit:",null,null,null,null,null,null,"Soil Loss Tolerance :",null,null,null,{"$f":"IF(L17=\"\",\"\",VLOOKUP(L17,X34:Y39,2))","v":""},"tons/ac/year"]
[]
[null,null,null,"Existing Condition",null,null,null,"Planned Condition"]
[null,null,null,"Without Cover Crop",null,null,null,"With Cover Crop"]
["Erosion rates (water, wind):"]
["Soil Condition Index:"]
[]
[null,null,"Average Date of Last Spring Frost",null,null,null,null,"Average Date of First Fall Frost"]
["Location/County",null,"28o F",null,"32o F",null,null,"32o F",null,null,"28o F"]
[null,null,{"$f":"IF(A27=\"\",\"\",VLOOKUP($A$27,$AP$115:$AT$154,2,FALSE))","v":""},null,{"$f":"IF(A27=\"\",\"\",VLOOKUP($A$27,$AP$115:$AT$154,3,FALSE))","v":""},null,null,{"$f":"IF(A27=\"\",\"\",VLOOKUP($A$27,$AP$115:$AT$154,4,FALSE))","v":""},null,null,{"$f":"IF(A27=\"\",\"\",VLOOKUP($A$27,$AP$115:$AT$154,5,FALSE))","v":""}]
[]
["Seeding Method:",null,null,null,"Fertilization:"]
["Seeding Window:",null,null,null,"Termination Method:"]
[]
["Planned Cover Crop Mixture"]
["Species","Variety","Full Seed Rate #/ac","Acres","Percent of Mixture",null,"Rate lb/ac","Seed Size","Total lbs",null,"Crop Type",null,"Seeding Depth (inches)",null,"Ave Seed Depth","Fertilization","Program","Seeding Date",null,"Seed Size",null,"Termination Method",null,"Erosion Sensitive",null,null,"Seeding Method",null,null,null,"Crop type"]
[]
[null,null,{"$f":"IF(A35=\"\",\"\",VLOOKUP(A35,$P$112:$S$153,3,FALSE))","v":""},{"$f":"IF($H$7=\"\",\"\",IF(A35=\"\",\"\",$H$7))","v":""},null,null,{"$f":"IF(A35=\"\",\"\",C35*E35)","v":""},{"$f":"IF(A35=\"\",\"\",VLOOKUP(A35,$P$112:$T$153,5,FALSE))","v":""},{"$f":"IF(E35=\"\",\"\",D35*G35)","v":""},null,{"$f":"IF(A35=\"\",\"\",VLOOKUP(A35,$P$112:$S$153,2,FALSE))","v":""},null,{"$f":"IF(A35=\"\",\"\",VLOOKUP(A35,$P$112:$S$153,4,FALSE))","v":""},null,{"$f":"IF(A35=\"\",\"\",VLOOKUP(A35,$P$112:$U$153,6,FALSE))","v":""},"None",319,"Apr 1 - Jun 15",null,"L ",null,"Crimp",null,"carrots",0.5,null,null,null,"Yes"]
[null,null,"","",null,null,"","",{"$f":"IF(E36=\"\",\"\",D36*G36)","v":""},null,"",null,"",null,"","Inoculant only","CRP","Jun 15 - Aug 15",null,"F",null,"Frost",null,"edible beans",0.5,null,null,null,"No"]
[null,null,"","",null,null,"","","",null,"",null,"",null,"","Starter only","CSP","Aug 15 - Sep 20",null,null,null,"Harvest",null,"onions",0.5,null,"No-till ",null,null,null,"CB"]
[null,null,"","",null,null,"","","",null,"",null,"",null,"","Starter & inoculant","CTA",null,null,null,null,"Herbicide",null,"potatoes",1,null,"Broadcast",null,null,null,"CG"]
[null,null,"","",null,null,"","","",null,"",null,"",null,"",null,"ECP",null,null,null,null,"Mow",null,"sugarbeets",1,null,"Tilled",null,null,null,"WB"]
[null,null,"","",null,null,"","","",null,"",null,"",null,"",null,"EQIP",null,null,null,null,"Roller",null,null,null,null,null,null,null,null,"WG"]
[null,null,"","",null,null,"","","",null,"",null,"",null,"",null,"FRPP"]
[null,null,"","",null,null,"","","",null,"",null,"",null,"",null,"GRP"]
[null,null,"","",null,null,"","","",null,"",null,"",null,"",null,"SWCA"]
[null,null,"","",null,null,{"$f":"IF(A44=\"\",\"\",C44*E44)","v":""},"",{"$f":"IF(E44=\"\",\"\",D44*G44)","v":""},null,"",null,"",null,"",null,"WHIP"]
[null,null,null,"",null,null,"",null,"",null,null,null,null,null,{"$f":"IF(A45=\"\",\"\",VLOOKUP(M45,$AA$110:$AB$118,2,FALSE))","v":""},null,"WRP"]
[null,null,null,"",null,null,"",null,"",null,null,null,null,null,{"$f":"IF(A46=\"\",\"\",VLOOKUP(M46,$AA$110:$AB$118,2,FALSE))","v":""}]
[null,null,null,null,"Total Pounds:",null,null,null,{"$f":"SUM(I35:J46)","v":0}]
["Estimated seeding rate :",null,{"$f":"IF(H7=\"\",\"\",SUM(I47/H7))","v":""},"lbs/acre",null,null,null,null,null,null,null,null,"Planned Seeding Depth (inches):",{"$f":"IF(A35=\"\",\"\",IF(O48=0.5,\"0.25 - 0.5\",IF(O48<=0.75,\".05 - 0.75\",IF(AND(O48>0.75,O48<=1),\"0.75 - 1.0\",IF(AND(O48>1,O48<=1.75),\"1.0 - 1.75\",\"1.75 - 3\")))))","v":""},{"$f":"IF(M35=\"\",\"\",SUM(O35:O46)/COUNTIF(O35:O46,\">0\"))","v":""}]
["Management Considerations and Notes:"]
[]
[]
["This cover crop planting plan is designed to meet the identified purposes noted above.  Changes to the seed mix should be discussed with the field office before ordering from the seed supplier, to ensure the alternative seed mix will meet the cover crop practice standard and specifications."]
[null,"Producer Signature:",null,null,null,null,null,null,null,"Date:"]
[null,"Planned by:",null,null,null,null,null,null,null,"Date:"]
["Cover Crop Certification Worksheet"]
[]
["Name:",{"$f":"IF(B4=\"\",\"\",B4)","v":""},null,null,null,null,null,"Program:",null,null,{"$f":"IF(H4=\"\",\"\",H4)","v":""}]
["Address:",{"$f":"IF(B5=\"\",\"\",B5)","v":""},null,null,null,null,null,"Contract #:",null,null,{"$f":"IF(H5=\"\",\"\",H5)","v":""}]
["Field Number:",{"$f":"IF(B6=\"\",\"\",B6)","v":""},null,null,null,null,"Contract Item #:",null,null,null,{"$f":"IF(H6=\"\",\"\",H6)","v":""}]
[null,"Quarter:",{"$f":"IF(N4=\"\",\"\",N4)","v":""},null,null,"Section:",{"$f":"IF(N5=\"\",\"\",N5)","v":""},null,"Township:",{"$f":"IF(N6=\"\",\"\",N6)","v":""},"Range:",null,{"$f":"IF(N7=\"\",\"\",N7)","v":""}]
[]
["Instructions: Document producer's actual cover crop planting information below.  Attach or include photos of the cover crop on the Photos Sheet."]
["Species ",null,null,"Total Pounds Planted",null,"Plants per Sq Ft",null,"Practice Check Out Conditions"]
[null,null,null,null,null,null,null,"Site Preparation:",null,null,null,"No-till    /    Tilled"]
[null,null,null,null,null,null,null,"Date Seeded:"]
[null,null,null,null,null,null,null,"Acres Seeded:"]
[null,null,null,null,null,null,null,"Seeding Method:",null,null,"Drilled   /  Broadcast"]
[null,null,null,null,null,null,null,"Ave Seeding Depth:",null,null,null,null,null,"inches"]
[null,null,null,null,null,null,null,"Legumes Inocculated:",null,null,null,"Yes  /   No"]
[null,null,null,null,null,null,null,"Fertility Used:"]
[null,null,null,null,null,null,null,"Weed Control:"]
[]
[]
[null,null,null,null,null,null,null,"Irrigated: ",null,"Yes  /  No",null,"Amount:"]
[]
[]
[null,null,null,null,null,null,null,"Termination Method:"]
[null,null,null,null,null,null,null,"Cover Crop Height at Termination:"]
[null,null,null,null,null,null,null,null,null,null,null,null,null,"inches"]
[null,null,"Total Lbs:",{"$f":"SUM(D64:E76)","v":0},null,null,null,"Cover Crop Biomass at Termination"]
["Checkout Notes and Comments:",null,null,null,null,null,null,null,null,null,"Lbs. or Tons per Acre"]
[]
[]
[]
[]
[]
[]
[]
[]
[]
["Producer Signature",null,null,null,null,"Date"]
[]
["I certify that the above practice information does / does not meet NRCS specifications for design and installation."]
[]
[]
[]
["NRCS Signature",null,null,null,null,"Date"]
[]
[]
[]
[]
[]
[]
[]
[]
[]
[]
[null,null,null,null,null,null,null,null,null,null,null,null,null,null,null,null,"Crop Type*","Seeding rate, lbs/acre","Seeding depth, inches","Seed Size",null,null,null,null,null,null,null,null,null,null,null,null,null,null,null,null,null,null,null,null,null,"ProCrop "]
[null,null,null,null,null,null,null,null,null,null,null,null,null,null,null,null,null,null,null,null,"Ave. Seeding Depth"]
[null,null,null,null,null,null,null,null,null,null,null,null,null,null,null,"Species",null,null,null,null,null,null,null,null,null,null,null,null,null,null,null,null,null,null,null,null,null,null,null,null,null,"Average Date of Last Spring Frost and First Fall Frost in North Dakota"]
[null,null,null,null,null,null,null,null,null,null,null,null,null,null,null,null,null,null,null,null,null,null,null,null,1,null,"0.25 - 0.5",0.5]
[null,null,null,null,null,null,null,null,null,null,null,null,null,null,null,"annual ryegrass","CG",5,"0.25 - 1.0","F",0.75,null,null,null,2,null,"0.25 - 0.75",0.5]
[null,null,null,null,null,null,null,null,null,null,null,null,null,null,null,"barley","CG",75,"0.75 - 2.0","L",1.25,null,null,null,3,null,"0.25 - 1.0",0.75,null,null,null,null,null,null,null,null,null,null,null,null,null,"Station & County","Average Date of Last Spring Frost",null,"Average Date of First Fall Frost"]
[null,null,null,null,null,null,null,null,null,null,null,null,null,null,null,"berseem clover","CB",8,"0.25 - 1.0","F",0.75,null,null,null,4,null,"0.5 - 1.0",0.75,null,null,null,null,null,null,null,null,null,null,null,null,null,null,"28 F","32 F","32 F","28 F"]
[null,null,null,null,null,null,null,null,null,null,null,null,null,null,null,"buckwheat","WB",48,"0.5 - 1.5","F",1,null,null,null,5,null,"0.5 - 1.5",1,null,null,null,null,null,null,null,null,null,null,null,null,null,"Crosby - Divide","2013-05-10","2013-05-18","2013-09-16","2013-09-23","Northwest District"]
[null,null,null,null,null,null,null,null,null,null,null,null,null,null,null,"canola","CB",5,"0.25 - 0.75","F",0.5,null,null,null,6,null,"0.75 - 2.0",1.25,null,null,null,null,null,null,null,null,null,null,null,null,null,"Minot Exp - Ward","2013-05-12","2013-05-20","2013-09-17","2013-09-26"]
[null,null,null,null,null,null,null,null,null,null,null,null,null,null,null,"chickling vetch","CB",50,"1.5 - 3.0","L",1.75,null,null,null,7,null,"1.0 - 1.5",1.25,null,null,null,null,null,null,null,null,null,null,null,null,null,"Mohall - Renville","2013-05-11","2013-05-18","2013-09-16","2013-09-23"]
[null,null,null,null,null,null,null,null,null,null,null,null,null,null,null,"common vetch","CB",20,"1.0 - 1.5","L",1.25,null,null,null,8,null,"1.5 - 3.0",1.75,null,null,null,null,null,null,null,null,null,null,null,null,null,"Parshall - Mountrail","2013-05-15","2013-05-21","2013-09-12","2013-09-18"]
[null,null,null,null,null,null,null,null,null,null,null,null,null,null,null,"corn","WG",25,"1.0 -1.5","L",1.25,null,null,null,9,null,null,null,null,null,null,null,null,null,null,null,null,null,null,null,null,"Powers Lake - Burke","2013-05-15","2013-05-23","2013-09-11","2013-09-23"]
[null,null,null,null,null,null,null,null,null,null,null,null,null,null,null,"cowpea","WB",50,"1.0 - 1.5","L",1.25,null,null,null,10,null,null,null,null,null,null,null,null,null,null,null,null,null,null,null,null,"Williston - Williams","2013-05-04","2013-05-13","2013-09-22","2013-09-28"]
[null,null,null,null,null,null,null,null,null,null,null,null,null,null,null,"crimson clover","CB",4,"0.25 - 0.75","F",0.5,null,null,null,11,null,null,null,null,null,null,null,null,null,null,null,null,null,null,null,null,"Bottineau - Bottineau","2013-05-15","2013-05-21","2013-09-15","2013-09-23","North Central District"]
[null,null,null,null,null,null,null,null,null,null,null,null,null,null,null,"flax","CB",50,"0.25 - 0.75","F",0.5,null,null,null,12,null,null,null,null,null,null,null,null,null,null,null,null,null,null,null,null,"Granville - McHenry","2013-05-13","2013-05-19","2013-09-15","2013-09-25"]
[null,null,null,null,null,null,null,null,null,null,null,null,null,null,null,"hairy vetch","WB",20,"0.5 - 1.5","L",1,null,null,null,13,null,null,null,null,null,null,null,null,null,null,null,null,null,null,null,null,"Maddock - Benson","2013-05-15","2013-05-23","2013-09-13","2013-09-21"]
[null,null,null,null,null,null,null,null,null,null,null,null,null,null,null,"horse bean","WB",20,"1.0 - 1.5","L",1.25,null,null,null,14,null,null,null,null,null,null,null,null,null,null,null,null,null,null,null,null,"Towner - McHenry","2013-05-14","2013-05-21","2013-09-12","2013-09-21"]
[null,null,null,null,null,null,null,null,null,null,null,null,null,null,null,"kale","CB",3,"0.25 - 0.5","F",0.5,null,null,null,15,null,null,null,null,null,null,null,null,null,null,null,null,null,null,null,null,"Grafton - Walsh","2013-05-09","2013-05-18","2013-09-19","2013-09-25","Northeast District"]
[null,null,null,null,null,null,null,null,null,null,null,null,null,null,null,"kura clover","CB",2,"0.25 - 1.0","F",0.75,null,null,null,16,null,null,null,null,null,null,null,null,null,null,null,null,null,null,null,null,"Grand Forks - Grand Forks","2013-05-06","2013-05-16","2013-09-23","2013-09-29"]
[null,null,null,null,null,null,null,null,null,null,null,null,null,null,null,"lentil","CB",50,"1.0 -1.5","F",1.25,null,null,null,17,null,null,null,null,null,null,null,null,null,null,null,null,null,null,null,null,"Hansboro - Towner","2013-05-17","2013-05-27","2013-09-11","2013-09-18"]
[null,null,null,null,null,null,null,null,null,null,null,null,null,null,null,"medic","CB",2,"0.25 - 0.75","F",0.5,null,null,null,18,null,null,null,null,null,null,null,null,null,null,null,null,null,null,null,null,"Langdon Exp - Cavalier","2013-05-17","2013-05-28","2013-09-13","2013-09-21"]
[null,null,null,null,null,null,null,null,null,null,null,null,null,null,null,"millet","WG",15,"0.25 - 0.75","L",0.5,null,null,null,19,null,null,null,null,null,null,null,null,null,null,null,null,null,null,null,null,"Pembina - Pembina","2013-05-12","2013-05-21","2013-09-17","2013-09-25"]
[null,null,null,null,null,null,null,null,null,null,null,null,null,null,null,"mustard, tame","CB",5,"0.25 - 0.75","F",0.5,null,null,null,20,null,null,null,null,null,null,null,null,null,null,null,null,null,null,null,null,"Dun Center - Dunn","2013-05-12","2013-05-17","2013-09-18","2013-09-27","West Central District"]
[null,null,null,null,null,null,null,null,null,null,null,null,null,null,null,"oat","CG",65,"0.5 - 1.5","L",1,null,null,null,21,null,null,null,null,null,null,null,null,null,null,null,null,null,null,null,null,"Garrison - McLean","2013-05-08","2013-05-18","2013-09-19","2013-09-25"]
[null,null,null,null,null,null,null,null,null,null,null,null,null,null,null,"pea","CB",75,"1.5 - 3.0","L",1.75,null,null,null,22,null,null,null,null,null,null,null,null,null,null,null,null,null,null,null,null,"Washburn - McLean","2013-05-06","2013-05-13","2013-09-24","2013-10-01"]
[null,null,null,null,null,null,null,null,null,null,null,null,null,null,null,"phacelia","CB",5,"0.25 - 0.75","F",0.5,null,null,null,23,null,null,null,null,null,null,null,null,null,null,null,null,null,null,null,null,"Watford City -McKenzie","2013-05-07","2013-05-13","2013-09-19","2013-09-27"]
[null,null,null,null,null,null,null,null,null,null,null,null,null,null,null,"radish","CB",4,"0.25 - 0.5","F",0.5,null,null,null,24,null,null,null,null,null,null,null,null,null,null,null,null,null,null,null,null,"Fessenden - Wells","2013-05-08","2013-05-17","2013-09-18","2013-09-26","Central District"]
[null,null,null,null,null,null,null,null,null,null,null,null,null,null,null,"Red beet","CB",4,"0.5 - 0.75","L",0.5,null,null,null,25,null,null,null,null,null,null,null,null,null,null,null,null,null,null,null,null,"Jamestown - Stutsman","2013-05-05","2013-05-15","2013-09-20","2013-09-29"]
[null,null,null,null,null,null,null,null,null,null,null,null,null,null,null,"red clover","CB",3,"0.25 - 0.75","F",0.5,null,null,null,26,null,null,null,null,null,null,null,null,null,null,null,null,null,null,null,null,"McClusky - Sheridan","2013-05-11","2013-05-20","2013-09-18","2013-09-26"]
[null,null,null,null,null,null,null,null,null,null,null,null,null,null,null,"safflower","WB",30,"1.0 - 1.5","L",1.25,null,null,null,27,null,null,null,null,null,null,null,null,null,null,null,null,null,null,null,null,"Pettibone - Kidder","2013-05-13","2013-05-22","2013-09-12","2013-09-17"]
[null,null,null,null,null,null,null,null,null,null,null,null,null,null,null,"sorghum","WG",5,"0.5 - 1.5","L",1,null,null,null,28,null,null,null,null,null,null,null,null,null,null,null,null,null,null,null,null,"Amenia - Cass","2013-05-06","2013-05-15","2013-09-23","2013-09-28","East Central District"]
[null,null,null,null,null,null,null,null,null,null,null,null,null,null,null,"soybean","WB",50,"1.0 - 1.5","L",1.25,null,null,null,29,null,null,null,null,null,null,null,null,null,null,null,null,null,null,null,null,"Cooperstown - Griggs","2013-05-11","2013-05-21","2013-09-19","2013-09-26"]
[null,null,null,null,null,null,null,null,null,null,null,null,null,null,null,"spring rye or wheat","CG",90,"0.5 - 1.5","L",1,null,null,null,30,null,null,null,null,null,null,null,null,null,null,null,null,null,null,null,null,"Fargo - Cass","2013-05-04","2013-05-12","2013-09-26","2013-10-02"]
[null,null,null,null,null,null,null,null,null,null,null,null,null,null,null,"subterranean clover","CB",4,"0.25 - 1.0","F",0.75,null,null,null,31,null,null,null,null,null,null,null,null,null,null,null,null,null,null,null,null,"Mayville - Traill","2013-05-08","2013-05-17","2013-09-24","2013-10-02"]
[null,null,null,null,null,null,null,null,null,null,null,null,null,null,null,"sudangrass, sudan-sorghum hybrid","WG",25,"0.5 - 1.5","L",1,null,null,null,32,null,null,null,null,null,null,null,null,null,null,null,null,null,null,null,null,"Beach - Golden Valley","2013-05-12","2013-05-20","2013-09-18","2013-09-27","Southwest District"]
[null,null,null,null,null,null,null,null,null,null,null,null,null,null,null,"sugarbeet","CB",2,"0.25 - 0.5","F",0.5,null,null,null,34,null,null,null,null,null,null,null,null,null,null,null,null,null,null,null,null,"Bowman - Bowman","2013-05-04","2013-05-14","2013-09-21","2013-09-30"]
[null,null,null,null,null,null,null,null,null,null,null,null,null,null,null,"sunflower","WB",4,"0.5 - 1.0","L",0.75,null,null,null,35,null,null,null,null,null,null,null,null,null,null,null,null,null,null,null,null,"Dickinson Exp - Stark","2013-05-12","2013-05-19","2013-09-14","2013-09-22"]
[null,null,null,null,null,null,null,null,null,null,null,null,null,null,null,"sunn hemp","WB",5,"0.5 - 1.0","F",0.75,null,null,null,36,null,null,null,null,null,null,null,null,null,null,null,null,null,null,null,null,"Hettinger - Adams","2013-05-11","2013-05-18","2013-09-20","2013-09-27"]
[null,null,null,null,null,null,null,null,null,null,null,null,null,null,null,"sweet clover","CB",4,"0.25 - 1.0","F",0.5,null,null,null,null,null,null,null,null,null,null,null,null,null,null,null,null,null,null,null,null,"Marmarth - Slope","2013-05-11","2013-05-16","2013-09-15","2013-09-23"]
[null,null,null,null,null,null,null,null,null,null,null,null,null,null,null,"Teffgrass","WG",5,"0.25 - 0.5","F",0.5,null,null,null,null,null,null,null,null,null,null,null,null,null,null,null,null,null,null,null,null,"Carson #2 - LaMoure","2013-05-11","2013-05-19","2013-09-15","2013-09-24","South Central District"]
[null,null,null,null,null,null,null,null,null,null,null,null,null,null,null,"triticale","CG",90,"0.5 - 1.5","L",1,null,null,null,null,null,null,null,null,null,null,null,null,null,null,null,null,null,null,null,null,"Mandan Exp. -Morton","2013-05-07","2013-05-12","2013-09-23","2013-09-28"]
[null,null,null,null,null,null,null,null,null,null,null,null,null,null,null,"turnip","CB",4,"0.25 - 0.5","F",0.5,null,null,null,null,null,null,null,null,null,null,null,null,null,null,null,null,null,null,null,null,"Edgeley Exp. - LaMoure","2013-05-11","2013-05-18","2013-09-19","2013-09-28","Southeast District"]
[null,null,null,null,null,null,null,null,null,null,null,null,null,null,null,"turnip - psaja","CB",4,"0.25 - 0.5","F",0.5,null,null,null,null,null,null,null,null,null,null,null,null,null,null,null,null,null,null,null,null,"Lisbon - Ransom","2013-05-10","2013-05-19","2013-09-20","2013-09-27"]
[null,null,null,null,null,null,null,null,null,null,null,null,null,null,null,"white dutch clover","CB",1,"0.25 - 1.0","F",0.75,null,null,null,null,null,null,null,null,null,null,null,null,null,null,null,null,null,null,null,null,"McLeod - Ransom","2013-05-09","2013-05-15","2013-09-22","2013-09-29"]
[null,null,null,null,null,null,null,null,null,null,null,null,null,null,null,"winter canola","CB",5,"0.25 - 0.75","F",0.5,null,null,null,null,null,null,null,null,null,null,null,null,null,null,null,null,null,null,null,null,"Napoleon - Logan","2013-05-14","2013-05-21","2013-09-16","2013-09-23"]
[null,null,null,null,null,null,null,null,null,null,null,null,null,null,null,"winter rye or wheat","CG",90,"0.75 - 2.0","L",1.25,null,null,null,null,null,null,null,null,null,null,null,null,null,null,null,null,null,null,null,null,"Oakes - Dickey","2013-05-05","2013-05-13","2013-09-23","2013-10-01"]
[null,null,null,null,null,null,null,null,null,null,null,null,null,null,null,null,null,null,null,null,null,null,null,null,null,null,null,null,null,null,null,null,null,null,null,null,null,null,null,null,null,"Wahpeton - Richland","2013-05-04","2013-05-13","2013-09-25","2013-10-03"]

{"sheet":"Table 1","index":2,"n_rows":66,"n_cols":39,"rows_kept":66,"cut":false,"hidden":false,"merged":[[0,0,0,18],[46,0,46,6],[46,8,46,11],[46,13,46,17],[65,0,65,18]]}
["Table 1: Cover Crop - Common Species and Properties"]
["Cover Crop","Erosion Reduction","Increase soil organic matter ","Capture, recycle, redistri-bute nutrients in the soil profile","Promote biologi-cal nitrogen fixation ","Weed suppres-sion","Provide supple-mental hay","Provide supple-mental grazing","Rooting Depth / Plant Water Use /1","Minimize / reduce soil compaction","Seed size (Large or Fine)","Crop Type /2","Seeding rate, lbs/acre","Seeding depth, inches","Salinity tolerance","C:N Ratio ","Attract Beneficial Insects","Mycorrhizal fungi association ","Tolerance to Frost ",null,"Erosion Reduction","Increase soil organic matter ","Capture, recycle, redistribute nutrients in the soil profile","Promote biological nitrogen fixation ","Pest suppression","Provide supple-mental hay","Provide supple-mental grazing","Rooting Depth / Plant Water Use /1","Minimize / reduce soil compaction","Seed size (Large or Fine)","Crop Type /2","Seeding rate, lbs/acre","Seeding depth, inches","Salinity tolerance","C:N Ratio ","Attract Beneficial Insects","Mycorrhizal fungi association ","Tolerance to Frost "]
[null,1,2,3,4,5,6,7,8,9,10,11,12,13,14,15,16,17,18,null,"a10","a14","f15","a12","a13","f10","f11",null,"f14",null,null,null,null,"a17",null,"f13","a15","f16"]
["annual ryegrass","G","G","G","P","G","F","F","SM","P","F","CG",5,"0.25 - 1.0","G","H","N","F","P",{"$f":"AM4","v":0},{"$f":"IF('ND-CPA-305'!$A$10=\"X\",IF(B4=\"G\",3,IF(B4=\"F\",2,1)),0)","v":0},{"$f":"IF('ND-CPA-305'!$A$14=\"X\",IF(C4=\"G\",3,IF(C4=\"F\",2,1)),0)","v":0},{"$f":"IF('ND-CPA-305'!$F$15=\"X\",IF(D4=\"G\",3,IF(D4=\"F\",2,1)),0)","v":0},{"$f":"IF('ND-CPA-305'!$A$12=\"X\",IF(E4=\"G\",3,IF(E4=\"F\",2,1)),0)","v":0},{"$f":"IF('ND-CPA-305'!$A$13=\"X\",IF(F4=\"G\",3,IF(F4=\"F\",2,1)),0)","v":0},{"$f":"IF('ND-CPA-305'!$F$10=\"X\",IF(G4=\"G\",3,IF(G4=\"F\",2,1)),0)","v":0},{"$f":"IF('ND-CPA-305'!$F$11=\"X\",IF(H4=\"G\",3,IF(H4=\"F\",2,1)),0)","v":0},null,{"$f":"IF('ND-CPA-305'!$F$14=\"X\",IF(J4=\"G\",3,IF(J4=\"F\",2,1)),0)","v":0},null,null,null,null,{"$f":"IF('ND-CPA-305'!$A$16=\"X\",IF(O4=\"G\",3,IF(O4=\"F\",2,1)),0)","v":0},null,{"$f":"IF('ND-CPA-305'!$F$13=\"X\",IF(Q4=\"Y\",3,0),0)","v":0},{"$f":"IF('ND-CPA-305'!$A$15=\"X\",IF(R4=\"G\",3,IF(R4=\"F\",2,1)),0)","v":0},{"$f":"IF('ND-CPA-305'!$F$16=\"X\",IF(S4=\"G\",3,IF(S4=\"F\",2,1)),0)","v":0},{"$f":"SUM(U4:AL4)","v":0}]
["barley","G","G","F","P","G","F","F","MM","F","L","CG",48,"0.75 - 2.0","G","M","N","P","P",0,{"$f":"IF('ND-CPA-305'!$A$10=\"X\",IF(B5=\"G\",3,IF(B5=\"F\",2,1)),0)","v":0},{"$f":"IF('ND-CPA-305'!$A$14=\"X\",IF(C5=\"G\",3,IF(C5=\"F\",2,1)),0)","v":0},{"$f":"IF('ND-CPA-305'!$F$15=\"X\",IF(D5=\"G\",3,IF(D5=\"F\",2,1)),0)","v":0},{"$f":"IF('ND-CPA-305'!$A$12=\"X\",IF(E5=\"G\",3,IF(E5=\"F\",2,1)),0)","v":0},{"$f":"IF('ND-CPA-305'!$A$13=\"X\",IF(F5=\"G\",3,IF(F5=\"F\",2,1)),0)","v":0},{"$f":"IF('ND-CPA-305'!$F$10=\"X\",IF(G5=\"G\",3,IF(G5=\"F\",2,1)),0)","v":0},{"$f":"IF('ND-CPA-305'!$F$11=\"X\",IF(H5=\"G\",3,IF(H5=\"F\",2,1)),0)","v":0},null,{"$f":"IF('ND-CPA-305'!$F$14=\"X\",IF(J5=\"G\",3,IF(J5=\"F\",2,1)),0)","v":0},null,null,null,null,{"$f":"IF('ND-CPA-305'!$A$16=\"X\",IF(O5=\"G\",3,IF(O5=\"F\",2,1)),0)","v":0},null,{"$f":"IF('ND-CPA-305'!$F$13=\"X\",IF(Q5=\"Y\",3,0),0)","v":0},{"$f":"IF('ND-CPA-305'!$A$15=\"X\",IF(R5=\"G\",3,IF(R5=\"F\",2,1)),0)","v":0},{"$f":"IF('ND-CPA-305'!$F$16=\"X\",IF(S5=\"G\",3,IF(S5=\"F\",2,1)),0)","v":0},{"$f":"SUM(U5:AL5)","v":0}]
["berseem clover","P","P","F","G","F","F","G","MH","F","F","CB",4,"0.25 - 1.0","F","L","Y","P","P",0,{"$f":"IF('ND-CPA-305'!$A$10=\"X\",IF(B6=\"G\",3,IF(B6=\"F\",2,1)),0)","v":0},{"$f":"IF('ND-CPA-305'!$A$14=\"X\",IF(C6=\"G\",3,IF(C6=\"F\",2,1)),0)","v":0},{"$f":"IF('ND-CPA-305'!$F$15=\"X\",IF(D6=\"G\",3,IF(D6=\"F\",2,1)),0)","v":0},{"$f":"IF('ND-CPA-305'!$A$12=\"X\",IF(E6=\"G\",3,IF(E6=\"F\",2,1)),0)","v":0},{"$f":"IF('ND-CPA-305'!$A$13=\"X\",IF(F6=\"G\",3,IF(F6=\"F\",2,1)),0)","v":0},{"$f":"IF('ND-CPA-305'!$F$10=\"X\",IF(G6=\"G\",3,IF(G6=\"F\",2,1)),0)","v":0},{"$f":"IF('ND-CPA-305'!$F$11=\"X\",IF(H6=\"G\",3,IF(H6=\"F\",2,1)),0)","v":0},null,{"$f":"IF('ND-CPA-305'!$F$14=\"X\",IF(J6=\"G\",3,IF(J6=\"F\",2,1)),0)","v":0},null,null,null,null,{"$f":"IF('ND-CPA-305'!$A$16=\"X\",IF(O6=\"G\",3,IF(O6=\"F\",2,1)),0)","v":0},null,{"$f":"IF('ND-CPA-305'!$F$13=\"X\",IF(Q6=\"Y\",3,0),0)","v":0},{"$f":"IF('ND-CPA-305'!$A$15=\"X\",IF(R6=\"G\",3,IF(R6=\"F\",2,1)),0)","v":0},{"$f":"IF('ND-CPA-305'!$F$16=\"X\",IF(S6=\"G\",3,IF(S6=\"F\",2,1)),0)","v":0},0]
["buckwheat","G","F","G","P","G","P","P","SL","P","F","WB",48,"0.5 - 1.5","P","L","Y","P","P",0,{"$f":"IF('ND-CPA-305'!$A$10=\"X\",IF(B7=\"G\",3,IF(B7=\"F\",2,1)),0)","v":0},{"$f":"IF('ND-CPA-305'!$A$14=\"X\",IF(C7=\"G\",3,IF(C7=\"F\",2,1)),0)","v":0},{"$f":"IF('ND-CPA-305'!$F$15=\"X\",IF(D7=\"G\",3,IF(D7=\"F\",2,1)),0)","v":0},{"$f":"IF('ND-CPA-305'!$A$12=\"X\",IF(E7=\"G\",3,IF(E7=\"F\",2,1)),0)","v":0},{"$f":"IF('ND-CPA-305'!$A$13=\"X\",IF(F7=\"G\",3,IF(F7=\"F\",2,1)),0)","v":0},{"$f":"IF('ND-CPA-305'!$F$10=\"X\",IF(G7=\"G\",3,IF(G7=\"F\",2,1)),0)","v":0},{"$f":"IF('ND-CPA-305'!$F$11=\"X\",IF(H7=\"G\",3,IF(H7=\"F\",2,1)),0)","v":0},null,{"$f":"IF('ND-CPA-305'!$F$14=\"X\",IF(J7=\"G\",3,IF(J7=\"F\",2,1)),0)","v":0},null,null,null,null,{"$f":"IF('ND-CPA-305'!$A$16=\"X\",IF(O7=\"G\",3,IF(O7=\"F\",2,1)),0)","v":0},null,{"$f":"IF('ND-CPA-305'!$F$13=\"X\",IF(Q7=\"Y\",3,0),0)","v":0},{"$f":"IF('ND-CPA-305'!$A$15=\"X\",IF(R7=\"G\",3,IF(R7=\"F\",2,1)),0)","v":0},{"$f":"IF('ND-CPA-305'!$F$16=\"X\",IF(S7=\"G\",3,IF(S7=\"F\",2,1)),0)","v":0},0]
["canola","F","F","G","P","P-G**","F","F","MM","G","F","CB",5,"0.25 - 0.75","G","L","Y","P","P",0,{"$f":"IF('ND-CPA-305'!$A$10=\"X\",IF(B8=\"G\",3,IF(B8=\"F\",2,1)),0)","v":0},{"$f":"IF('ND-CPA-305'!$A$14=\"X\",IF(C8=\"G\",3,IF(C8=\"F\",2,1)),0)","v":0},{"$f":"IF('ND-CPA-305'!$F$15=\"X\",IF(D8=\"G\",3,IF(D8=\"F\",2,1)),0)","v":0},{"$f":"IF('ND-CPA-305'!$A$12=\"X\",IF(E8=\"G\",3,IF(E8=\"F\",2,1)),0)","v":0},{"$f":"IF('ND-CPA-305'!$A$13=\"X\",IF(F8=\"G\",3,IF(F8=\"F\",2,1)),0)","v":0},{"$f":"IF('ND-CPA-305'!$F$10=\"X\",IF(G8=\"G\",3,IF(G8=\"F\",2,1)),0)","v":0},{"$f":"IF('ND-CPA-305'!$F$11=\"X\",IF(H8=\"G\",3,IF(H8=\"F\",2,1)),0)","v":0},null,{"$f":"IF('ND-CPA-305'!$F$14=\"X\",IF(J8=\"G\",3,IF(J8=\"F\",2,1)),0)","v":0},null,null,null,null,{"$f":"IF('ND-CPA-305'!$A$16=\"X\",IF(O8=\"G\",3,IF(O8=\"F\",2,1)),0)","v":0},null,{"$f":"IF('ND-CPA-305'!$F$13=\"X\",IF(Q8=\"Y\",3,0),0)","v":0},{"$f":"IF('ND-CPA-305'!$A$15=\"X\",IF(R8=\"G\",3,IF(R8=\"F\",2,1)),0)","v":0},{"$f":"IF('ND-CPA-305'!$F$16=\"X\",IF(S8=\"G\",3,IF(S8=\"F\",2,1)),0)","v":0},0]
["chickling vetch","F","F","F","G","P","F","F","DM","F","L","CB",50,"1.5 - 3.0","P","L","Y","P","P",0,{"$f":"IF('ND-CPA-305'!$A$10=\"X\",IF(B9=\"G\",3,IF(B9=\"F\",2,1)),0)","v":0},{"$f":"IF('ND-CPA-305'!$A$14=\"X\",IF(C9=\"G\",3,IF(C9=\"F\",2,1)),0)","v":0},{"$f":"IF('ND-CPA-305'!$F$15=\"X\",IF(D9=\"G\",3,IF(D9=\"F\",2,1)),0)","v":0},{"$f":"IF('ND-CPA-305'!$A$12=\"X\",IF(E9=\"G\",3,IF(E9=\"F\",2,1)),0)","v":0},{"$f":"IF('ND-CPA-305'!$A$13=\"X\",IF(F9=\"G\",3,IF(F9=\"F\",2,1)),0)","v":0},{"$f":"IF('ND-CPA-305'!$F$10=\"X\",IF(G9=\"G\",3,IF(G9=\"F\",2,1)),0)","v":0},{"$f":"IF('ND-CPA-305'!$F$11=\"X\",IF(H9=\"G\",3,IF(H9=\"F\",2,1)),0)","v":0},null,{"$f":"IF('ND-CPA-305'!$F$14=\"X\",IF(J9=\"G\",3,IF(J9=\"F\",2,1)),0)","v":0},null,null,null,null,{"$f":"IF('ND-CPA-305'!$A$16=\"X\",IF(O9=\"G\",3,IF(O9=\"F\",2,1)),0)","v":0},null,{"$f":"IF('ND-CPA-305'!$F$13=\"X\",IF(Q9=\"Y\",3,0),0)","v":0},{"$f":"IF('ND-CPA-305'!$A$15=\"X\",IF(R9=\"G\",3,IF(R9=\"F\",2,1)),0)","v":0},{"$f":"IF('ND-CPA-305'!$F$16=\"X\",IF(S9=\"G\",3,IF(S9=\"F\",2,1)),0)","v":0},0]
["common vetch","F","F","F","G","G","G","G","SH","F","L","CB",20,"1.0 - 1.5","F","L","Y","P","P",0,{"$f":"IF('ND-CPA-305'!$A$10=\"X\",IF(B10=\"G\",3,IF(B10=\"F\",2,1)),0)","v":0},{"$f":"IF('ND-CPA-305'!$A$14=\"X\",IF(C10=\"G\",3,IF(C10=\"F\",2,1)),0)","v":0},{"$f":"IF('ND-CPA-305'!$F$15=\"X\",IF(D10=\"G\",3,IF(D10=\"F\",2,1)),0)","v":0},{"$f":"IF('ND-CPA-305'!$A$12=\"X\",IF(E10=\"G\",3,IF(E10=\"F\",2,1)),0)","v":0},{"$f":"IF('ND-CPA-305'!$A$13=\"X\",IF(F10=\"G\",3,IF(F10=\"F\",2,1)),0)","v":0},{"$f":"IF('ND-CPA-305'!$F$10=\"X\",IF(G10=\"G\",3,IF(G10=\"F\",2,1)),0)","v":0},{"$f":"IF('ND-CPA-305'!$F$11=\"X\",IF(H10=\"G\",3,IF(H10=\"F\",2,1)),0)","v":0},null,{"$f":"IF('ND-CPA-305'!$F$14=\"X\",IF(J10=\"G\",3,IF(J10=\"F\",2,1)),0)","v":0},null,null,null,null,{"$f":"IF('ND-CPA-305'!$A$16=\"X\",IF(O10=\"G\",3,IF(O10=\"F\",2,1)),0)","v":0},null,{"$f":"IF('ND-CPA-305'!$F$13=\"X\",IF(Q10=\"Y\",3,0),0)","v":0},{"$f":"IF('ND-CPA-305'!$A$15=\"X\",IF(R10=\"G\",3,IF(R10=\"F\",2,1)),0)","v":0},{"$f":"IF('ND-CPA-305'!$F$16=\"X\",IF(S10=\"G\",3,IF(S10=\"F\",2,1)),0)","v":0},0]
["corn","G","G","G","P","P-G**","F","F","DH","G","L","WG",25,"1.0 -1.5","P","H","N","G","P",0,{"$f":"IF('ND-CPA-305'!$A$10=\"X\",IF(B11=\"G\",3,IF(B11=\"F\",2,1)),0)","v":0},{"$f":"IF('ND-CPA-305'!$A$14=\"X\",IF(C11=\"G\",3,IF(C11=\"F\",2,1)),0)","v":0},{"$f":"IF('ND-CPA-305'!$F$15=\"X\",IF(D11=\"G\",3,IF(D11=\"F\",2,1)),0)","v":0},{"$f":"IF('ND-CPA-305'!$A$12=\"X\",IF(E11=\"G\",3,IF(E11=\"F\",2,1)),0)","v":0},{"$f":"IF('ND-CPA-305'!$A$13=\"X\",IF(F11=\"G\",3,IF(F11=\"F\",2,1)),0)","v":0},{"$f":"IF('ND-CPA-305'!$F$10=\"X\",IF(G11=\"G\",3,IF(G11=\"F\",2,1)),0)","v":0},{"$f":"IF('ND-CPA-305'!$F$11=\"X\",IF(H11=\"G\",3,IF(H11=\"F\",2,1)),0)","v":0},null,{"$f":"IF('ND-CPA-305'!$F$14=\"X\",IF(J11=\"G\",3,IF(J11=\"F\",2,1)),0)","v":0},null,null,null,null,{"$f":"IF('ND-CPA-305'!$A$16=\"X\",IF(O11=\"G\",3,IF(O11=\"F\",2,1)),0)","v":0},null,{"$f":"IF('ND-CPA-305'!$F$13=\"X\",IF(Q11=\"Y\",3,0),0)","v":0},{"$f":"IF('ND-CPA-305'!$A$15=\"X\",IF(R11=\"G\",3,IF(R11=\"F\",2,1)),0)","v":0},{"$f":"IF('ND-CPA-305'!$F$16=\"X\",IF(S11=\"G\",3,IF(S11=\"F\",2,1)),0)","v":0},0]
["cowpea","P","P","F","G","G","F","F","SL","F","L","WB",50,"1.0 - 1.5","P","L","Y","F","P",0,{"$f":"IF('ND-CPA-305'!$A$10=\"X\",IF(B12=\"G\",3,IF(B12=\"F\",2,1)),0)","v":0},{"$f":"IF('ND-CPA-305'!$A$14=\"X\",IF(C12=\"G\",3,IF(C12=\"F\",2,1)),0)","v":0},{"$f":"IF('ND-CPA-305'!$F$15=\"X\",IF(D12=\"G\",3,IF(D12=\"F\",2,1)),0)","v":0},{"$f":"IF('ND-CPA-305'!$A$12=\"X\",IF(E12=\"G\",3,IF(E12=\"F\",2,1)),0)","v":0},{"$f":"IF('ND-CPA-305'!$A$13=\"X\",IF(F12=\"G\",3,IF(F12=\"F\",2,1)),0)","v":0},{"$f":"IF('ND-CPA-305'!$F$10=\"X\",IF(G12=\"G\",3,IF(G12=\"F\",2,1)),0)","v":0},{"$f":"IF('ND-CPA-305'!$F$11=\"X\",IF(H12=\"G\",3,IF(H12=\"F\",2,1)),0)","v":0},null,{"$f":"IF('ND-CPA-305'!$F$14=\"X\",IF(J12=\"G\",3,IF(J12=\"F\",2,1)),0)","v":0},null,null,null,null,{"$f":"IF('ND-CPA-305'!$A$16=\"X\",IF(O12=\"G\",3,IF(O12=\"F\",2,1)),0)","v":0},null,{"$f":"IF('ND-CPA-305'!$F$13=\"X\",IF(Q12=\"Y\",3,0),0)","v":0},{"$f":"IF('ND-CPA-305'!$A$15=\"X\",IF(R12=\"G\",3,IF(R12=\"F\",2,1)),0)","v":0},{"$f":"IF('ND-CPA-305'!$F$16=\"X\",IF(S12=\"G\",3,IF(S12=\"F\",2,1)),0)","v":0},0]
["crimson clover","F","F","F","G","F","F","G","MM","F","F","CB",4,"0.25 - 0.75","P","L","Y","G","P",0,{"$f":"IF('ND-CPA-305'!$A$10=\"X\",IF(B13=\"G\",3,IF(B13=\"F\",2,1)),0)","v":0},{"$f":"IF('ND-CPA-305'!$A$14=\"X\",IF(C13=\"G\",3,IF(C13=\"F\",2,1)),0)","v":0},{"$f":"IF('ND-CPA-305'!$F$15=\"X\",IF(D13=\"G\",3,IF(D13=\"F\",2,1)),0)","v":0},{"$f":"IF('ND-CPA-305'!$A$12=\"X\",IF(E13=\"G\",3,IF(E13=\"F\",2,1)),0)","v":0},{"$f":"IF('ND-CPA-305'!$A$13=\"X\",IF(F13=\"G\",3,IF(F13=\"F\",2,1)),0)","v":0},{"$f":"IF('ND-CPA-305'!$F$10=\"X\",IF(G13=\"G\",3,IF(G13=\"F\",2,1)),0)","v":0},{"$f":"IF('ND-CPA-305'!$F$11=\"X\",IF(H13=\"G\",3,IF(H13=\"F\",2,1)),0)","v":0},null,{"$f":"IF('ND-CPA-305'!$F$14=\"X\",IF(J13=\"G\",3,IF(J13=\"F\",2,1)),0)","v":0},null,null,null,null,{"$f":"IF('ND-CPA-305'!$A$16=\"X\",IF(O13=\"G\",3,IF(O13=\"F\",2,1)),0)","v":0},null,{"$f":"IF('ND-CPA-305'!$F$13=\"X\",IF(Q13=\"Y\",3,0),0)","v":0},{"$f":"IF('ND-CPA-305'!$A$15=\"X\",IF(R13=\"G\",3,IF(R13=\"F\",2,1)),0)","v":0},{"$f":"IF('ND-CPA-305'!$F$16=\"X\",IF(S13=\"G\",3,IF(S13=\"F\",2,1)),0)","v":0},0]
["flax","F","F","F","P","P","P","P","SM","P","F","CB",50,"0.25 - 0.75","P","H","Y","G","G",0,{"$f":"IF('ND-CPA-305'!$A$10=\"X\",IF(B14=\"G\",3,IF(B14=\"F\",2,1)),0)","v":0},{"$f":"IF('ND-CPA-305'!$A$14=\"X\",IF(C14=\"G\",3,IF(C14=\"F\",2,1)),0)","v":0},{"$f":"IF('ND-CPA-305'!$F$15=\"X\",IF(D14=\"G\",3,IF(D14=\"F\",2,1)),0)","v":0},{"$f":"IF('ND-CPA-305'!$A$12=\"X\",IF(E14=\"G\",3,IF(E14=\"F\",2,1)),0)","v":0},{"$f":"IF('ND-CPA-305'!$A$13=\"X\",IF(F14=\"G\",3,IF(F14=\"F\",2,1)),0)","v":0},{"$f":"IF('ND-CPA-305'!$F$10=\"X\",IF(G14=\"G\",3,IF(G14=\"F\",2,1)),0)","v":0},{"$f":"IF('ND-CPA-305'!$F$11=\"X\",IF(H14=\"G\",3,IF(H14=\"F\",2,1)),0)","v":0},null,{"$f":"IF('ND-CPA-305'!$F$14=\"X\",IF(J14=\"G\",3,IF(J14=\"F\",2,1)),0)","v":0},null,null,null,null,{"$f":"IF('ND-CPA-305'!$A$16=\"X\",IF(O14=\"G\",3,IF(O14=\"F\",2,1)),0)","v":0},null,{"$f":"IF('ND-CPA-305'!$F$13=\"X\",IF(Q14=\"Y\",3,0),0)","v":0},{"$f":"IF('ND-CPA-305'!$A$15=\"X\",IF(R14=\"G\",3,IF(R14=\"F\",2,1)),0)","v":0},{"$f":"IF('ND-CPA-305'!$F$16=\"X\",IF(S14=\"G\",3,IF(S14=\"F\",2,1)),0)","v":0},0]
["hairy vetch","G","F","F","G","P","F","F","SM","F","L","WB",20,"0.5 - 1.5","P","L","Y","F","G",0,{"$f":"IF('ND-CPA-305'!$A$10=\"X\",IF(B15=\"G\",3,IF(B15=\"F\",2,1)),0)","v":0},{"$f":"IF('ND-CPA-305'!$A$14=\"X\",IF(C15=\"G\",3,IF(C15=\"F\",2,1)),0)","v":0},{"$f":"IF('ND-CPA-305'!$F$15=\"X\",IF(D15=\"G\",3,IF(D15=\"F\",2,1)),0)","v":0},{"$f":"IF('ND-CPA-305'!$A$12=\"X\",IF(E15=\"G\",3,IF(E15=\"F\",2,1)),0)","v":0},{"$f":"IF('ND-CPA-305'!$A$13=\"X\",IF(F15=\"G\",3,IF(F15=\"F\",2,1)),0)","v":0},{"$f":"IF('ND-CPA-305'!$F$10=\"X\",IF(G15=\"G\",3,IF(G15=\"F\",2,1)),0)","v":0},{"$f":"IF('ND-CPA-305'!$F$11=\"X\",IF(H15=\"G\",3,IF(H15=\"F\",2,1)),0)","v":0},null,{"$f":"IF('ND-CPA-305'!$F$14=\"X\",IF(J15=\"G\",3,IF(J15=\"F\",2,1)),0)","v":0},null,null,null,null,{"$f":"IF('ND-CPA-305'!$A$16=\"X\",IF(O15=\"G\",3,IF(O15=\"F\",2,1)),0)","v":0},null,{"$f":"IF('ND-CPA-305'!$F$13=\"X\",IF(Q15=\"Y\",3,0),0)","v":0},{"$f":"IF('ND-CPA-305'!$A$15=\"X\",IF(R15=\"G\",3,IF(R15=\"F\",2,1)),0)","v":0},{"$f":"IF('ND-CPA-305'!$F$16=\"X\",IF(S15=\"G\",3,IF(S15=\"F\",2,1)),0)","v":0},0]
["horse bean","F","F","F","G","F","G","G","DM","G","L","WB",20,"1.0 - 1.5","F","L","Y","P","F",0,{"$f":"IF('ND-CPA-305'!$A$10=\"X\",IF(B16=\"G\",3,IF(B16=\"F\",2,1)),0)","v":0},{"$f":"IF('ND-CPA-305'!$A$14=\"X\",IF(C16=\"G\",3,IF(C16=\"F\",2,1)),0)","v":0},{"$f":"IF('ND-CPA-305'!$F$15=\"X\",IF(D16=\"G\",3,IF(D16=\"F\",2,1)),0)","v":0},{"$f":"IF('ND-CPA-305'!$A$12=\"X\",IF(E16=\"G\",3,IF(E16=\"F\",2,1)),0)","v":0},{"$f":"IF('ND-CPA-305'!$A$13=\"X\",IF(F16=\"G\",3,IF(F16=\"F\",2,1)),0)","v":0},{"$f":"IF('ND-CPA-305'!$F$10=\"X\",IF(G16=\"G\",3,IF(G16=\"F\",2,1)),0)","v":0},{"$f":"IF('ND-CPA-305'!$F$11=\"X\",IF(H16=\"G\",3,IF(H16=\"F\",2,1)),0)","v":0},null,{"$f":"IF('ND-CPA-305'!$F$14=\"X\",IF(J16=\"G\",3,IF(J16=\"F\",2,1)),0)","v":0},null,null,null,null,{"$f":"IF('ND-CPA-305'!$A$16=\"X\",IF(O16=\"G\",3,IF(O16=\"F\",2,1)),0)","v":0},null,{"$f":"IF('ND-CPA-305'!$F$13=\"X\",IF(Q16=\"Y\",3,0),0)","v":0},{"$f":"IF('ND-CPA-305'!$A$15=\"X\",IF(R16=\"G\",3,IF(R16=\"F\",2,1)),0)","v":0},{"$f":"IF('ND-CPA-305'!$F$16=\"X\",IF(S16=\"G\",3,IF(S16=\"F\",2,1)),0)","v":0},0]
["kale","F","F","G","P","F","F","G","DH","G","F","CB",3,"0.25 - 0.5","P","L","Y","P","G",0,{"$f":"IF('ND-CPA-305'!$A$10=\"X\",IF(B17=\"G\",3,IF(B17=\"F\",2,1)),0)","v":0},{"$f":"IF('ND-CPA-305'!$A$14=\"X\",IF(C17=\"G\",3,IF(C17=\"F\",2,1)),0)","v":0},{"$f":"IF('ND-CPA-305'!$F$15=\"X\",IF(D17=\"G\",3,IF(D17=\"F\",2,1)),0)","v":0},{"$f":"IF('ND-CPA-305'!$A$12=\"X\",IF(E17=\"G\",3,IF(E17=\"F\",2,1)),0)","v":0},{"$f":"IF('ND-CPA-305'!$A$13=\"X\",IF(F17=\"G\",3,IF(F17=\"F\",2,1)),0)","v":0},{"$f":"IF('ND-CPA-305'!$F$10=\"X\",IF(G17=\"G\",3,IF(G17=\"F\",2,1)),0)","v":0},{"$f":"IF('ND-CPA-305'!$F$11=\"X\",IF(H17=\"G\",3,IF(H17=\"F\",2,1)),0)","v":0},null,{"$f":"IF('ND-CPA-305'!$F$14=\"X\",IF(J17=\"G\",3,IF(J17=\"F\",2,1)),0)","v":0},null,null,null,null,{"$f":"IF('ND-CPA-305'!$A$16=\"X\",IF(O17=\"G\",3,IF(O17=\"F\",2,1)),0)","v":0},null,{"$f":"IF('ND-CPA-305'!$F$13=\"X\",IF(Q17=\"Y\",3,0),0)","v":0},{"$f":"IF('ND-CPA-305'!$A$15=\"X\",IF(R17=\"G\",3,IF(R17=\"F\",2,1)),0)","v":0},{"$f":"IF('ND-CPA-305'!$F$16=\"X\",IF(S17=\"G\",3,IF(S17=\"F\",2,1)),0)","v":0},0]
["kura clover","F","F","F","G","P","F","G","SH","F","F","CB",2,"0.25 - 1.0","P","L","Y","P","G",0,{"$f":"IF('ND-CPA-305'!$A$10=\"X\",IF(B18=\"G\",3,IF(B18=\"F\",2,1)),0)","v":0},{"$f":"IF('ND-CPA-305'!$A$14=\"X\",IF(C18=\"G\",3,IF(C18=\"F\",2,1)),0)","v":0},{"$f":"IF('ND-CPA-305'!$F$15=\"X\",IF(D18=\"G\",3,IF(D18=\"F\",2,1)),0)","v":0},{"$f":"IF('ND-CPA-305'!$A$12=\"X\",IF(E18=\"G\",3,IF(E18=\"F\",2,1)),0)","v":0},{"$f":"IF('ND-CPA-305'!$A$13=\"X\",IF(F18=\"G\",3,IF(F18=\"F\",2,1)),0)","v":0},{"$f":"IF('ND-CPA-305'!$F$10=\"X\",IF(G18=\"G\",3,IF(G18=\"F\",2,1)),0)","v":0},{"$f":"IF('ND-CPA-305'!$F$11=\"X\",IF(H18=\"G\",3,IF(H18=\"F\",2,1)),0)","v":0},null,{"$f":"IF('ND-CPA-305'!$F$14=\"X\",IF(J18=\"G\",3,IF(J18=\"F\",2,1)),0)","v":0},null,null,null,null,{"$f":"IF('ND-CPA-305'!$A$16=\"X\",IF(O18=\"G\",3,IF(O18=\"F\",2,1)),0)","v":0},null,{"$f":"IF('ND-CPA-305'!$F$13=\"X\",IF(Q18=\"Y\",3,0),0)","v":0},{"$f":"IF('ND-CPA-305'!$A$15=\"X\",IF(R18=\"G\",3,IF(R18=\"F\",2,1)),0)","v":0},{"$f":"IF('ND-CPA-305'!$F$16=\"X\",IF(S18=\"G\",3,IF(S18=\"F\",2,1)),0)","v":0},0]
["lentil","P","P","F","G","P","F","F","SL","P","F","CB",50,"1.0 -1.5","P","L","Y","F","G",0,{"$f":"IF('ND-CPA-305'!$A$10=\"X\",IF(B19=\"G\",3,IF(B19=\"F\",2,1)),0)","v":0},{"$f":"IF('ND-CPA-305'!$A$14=\"X\",IF(C19=\"G\",3,IF(C19=\"F\",2,1)),0)","v":0},{"$f":"IF('ND-CPA-305'!$F$15=\"X\",IF(D19=\"G\",3,IF(D19=\"F\",2,1)),0)","v":0},{"$f":"IF('ND-CPA-305'!$A$12=\"X\",IF(E19=\"G\",3,IF(E19=\"F\",2,1)),0)","v":0},{"$f":"IF('ND-CPA-305'!$A$13=\"X\",IF(F19=\"G\",3,IF(F19=\"F\",2,1)),0)","v":0},{"$f":"IF('ND-CPA-305'!$F$10=\"X\",IF(G19=\"G\",3,IF(G19=\"F\",2,1)),0)","v":0},{"$f":"IF('ND-CPA-305'!$F$11=\"X\",IF(H19=\"G\",3,IF(H19=\"F\",2,1)),0)","v":0},null,{"$f":"IF('ND-CPA-305'!$F$14=\"X\",IF(J19=\"G\",3,IF(J19=\"F\",2,1)),0)","v":0},null,null,null,null,{"$f":"IF('ND-CPA-305'!$A$16=\"X\",IF(O19=\"G\",3,IF(O19=\"F\",2,1)),0)","v":0},null,{"$f":"IF('ND-CPA-305'!$F$13=\"X\",IF(Q19=\"Y\",3,0),0)","v":0},{"$f":"IF('ND-CPA-305'!$A$15=\"X\",IF(R19=\"G\",3,IF(R19=\"F\",2,1)),0)","v":0},{"$f":"IF('ND-CPA-305'!$F$16=\"X\",IF(S19=\"G\",3,IF(S19=\"F\",2,1)),0)","v":0},0]
["medic","P","P","G","G","F*","F","F","MM","F","F","CB",2,"0.25 - 0.75","P","L","Y","F","G",0,{"$f":"IF('ND-CPA-305'!$A$10=\"X\",IF(B20=\"G\",3,IF(B20=\"F\",2,1)),0)","v":0},{"$f":"IF('ND-CPA-305'!$A$14=\"X\",IF(C20=\"G\",3,IF(C20=\"F\",2,1)),0)","v":0},{"$f":"IF('ND-CPA-305'!$F$15=\"X\",IF(D20=\"G\",3,IF(D20=\"F\",2,1)),0)","v":0},{"$f":"IF('ND-CPA-305'!$A$12=\"X\",IF(E20=\"G\",3,IF(E20=\"F\",2,1)),0)","v":0},{"$f":"IF('ND-CPA-305'!$A$13=\"X\",IF(F20=\"G\",3,IF(F20=\"F\",2,1)),0)","v":0},{"$f":"IF('ND-CPA-305'!$F$10=\"X\",IF(G20=\"G\",3,IF(G20=\"F\",2,1)),0)","v":0},{"$f":"IF('ND-CPA-305'!$F$11=\"X\",IF(H20=\"G\",3,IF(H20=\"F\",2,1)),0)","v":0},null,{"$f":"IF('ND-CPA-305'!$F$14=\"X\",IF(J20=\"G\",3,IF(J20=\"F\",2,1)),0)","v":0},null,null,null,null,{"$f":"IF('ND-CPA-305'!$A$16=\"X\",IF(O20=\"G\",3,IF(O20=\"F\",2,1)),0)","v":0},null,{"$f":"IF('ND-CPA-305'!$F$13=\"X\",IF(Q20=\"Y\",3,0),0)","v":0},{"$f":"IF('ND-CPA-305'!$A$15=\"X\",IF(R20=\"G\",3,IF(R20=\"F\",2,1)),0)","v":0},{"$f":"IF('ND-CPA-305'!$F$16=\"X\",IF(S20=\"G\",3,IF(S20=\"F\",2,1)),0)","v":0},0]
["millet","G","G","F","P","G","G","F","SL","F","L","WG",15,"0.25 - 0.75","F","M","N","G","G",0,{"$f":"IF('ND-CPA-305'!$A$10=\"X\",IF(B21=\"G\",3,IF(B21=\"F\",2,1)),0)","v":0},{"$f":"IF('ND-CPA-305'!$A$14=\"X\",IF(C21=\"G\",3,IF(C21=\"F\",2,1)),0)","v":0},{"$f":"IF('ND-CPA-305'!$F$15=\"X\",IF(D21=\"G\",3,IF(D21=\"F\",2,1)),0)","v":0},{"$f":"IF('ND-CPA-305'!$A$12=\"X\",IF(E21=\"G\",3,IF(E21=\"F\",2,1)),0)","v":0},{"$f":"IF('ND-CPA-305'!$A$13=\"X\",IF(F21=\"G\",3,IF(F21=\"F\",2,1)),0)","v":0},{"$f":"IF('ND-CPA-305'!$F$10=\"X\",IF(G21=\"G\",3,IF(G21=\"F\",2,1)),0)","v":0},{"$f":"IF('ND-CPA-305'!$F$11=\"X\",IF(H21=\"G\",3,IF(H21=\"F\",2,1)),0)","v":0},null,{"$f":"IF('ND-CPA-305'!$F$14=\"X\",IF(J21=\"G\",3,IF(J21=\"F\",2,1)),0)","v":0},null,null,null,null,{"$f":"IF('ND-CPA-305'!$A$16=\"X\",IF(O21=\"G\",3,IF(O21=\"F\",2,1)),0)","v":0},null,{"$f":"IF('ND-CPA-305'!$F$13=\"X\",IF(Q21=\"Y\",3,0),0)","v":0},{"$f":"IF('ND-CPA-305'!$A$15=\"X\",IF(R21=\"G\",3,IF(R21=\"F\",2,1)),0)","v":0},{"$f":"IF('ND-CPA-305'!$F$16=\"X\",IF(S21=\"G\",3,IF(S21=\"F\",2,1)),0)","v":0},0]
["mustard, tame","F","F","F","P","G","F","F","MH","F","F","CB",5,"0.25 - 0.75","P","L","Y","P","F",0,{"$f":"IF('ND-CPA-305'!$A$10=\"X\",IF(B22=\"G\",3,IF(B22=\"F\",2,1)),0)","v":0},{"$f":"IF('ND-CPA-305'!$A$14=\"X\",IF(C22=\"G\",3,IF(C22=\"F\",2,1)),0)","v":0},{"$f":"IF('ND-CPA-305'!$F$15=\"X\",IF(D22=\"G\",3,IF(D22=\"F\",2,1)),0)","v":0},{"$f":"IF('ND-CPA-305'!$A$12=\"X\",IF(E22=\"G\",3,IF(E22=\"F\",2,1)),0)","v":0},{"$f":"IF('ND-CPA-305'!$A$13=\"X\",IF(F22=\"G\",3,IF(F22=\"F\",2,1)),0)","v":0},{"$f":"IF('ND-CPA-305'!$F$10=\"X\",IF(G22=\"G\",3,IF(G22=\"F\",2,1)),0)","v":0},{"$f":"IF('ND-CPA-305'!$F$11=\"X\",IF(H22=\"G\",3,IF(H22=\"F\",2,1)),0)","v":0},null,{"$f":"IF('ND-CPA-305'!$F$14=\"X\",IF(J22=\"G\",3,IF(J22=\"F\",2,1)),0)","v":0},null,null,null,null,{"$f":"IF('ND-CPA-305'!$A$16=\"X\",IF(O22=\"G\",3,IF(O22=\"F\",2,1)),0)","v":0},null,{"$f":"IF('ND-CPA-305'!$F$13=\"X\",IF(Q22=\"Y\",3,0),0)","v":0},{"$f":"IF('ND-CPA-305'!$A$15=\"X\",IF(R22=\"G\",3,IF(R22=\"F\",2,1)),0)","v":0},{"$f":"IF('ND-CPA-305'!$F$16=\"X\",IF(S22=\"G\",3,IF(S22=\"F\",2,1)),0)","v":0},0]
["oat","G","G","F","P","F","G","F","MM","F","L","CG",65,"0.5 - 1.5","P","M","N","P","F",0,{"$f":"IF('ND-CPA-305'!$A$10=\"X\",IF(B23=\"G\",3,IF(B23=\"F\",2,1)),0)","v":0},{"$f":"IF('ND-CPA-305'!$A$14=\"X\",IF(C23=\"G\",3,IF(C23=\"F\",2,1)),0)","v":0},{"$f":"IF('ND-CPA-305'!$F$15=\"X\",IF(D23=\"G\",3,IF(D23=\"F\",2,1)),0)","v":0},{"$f":"IF('ND-CPA-305'!$A$12=\"X\",IF(E23=\"G\",3,IF(E23=\"F\",2,1)),0)","v":0},{"$f":"IF('ND-CPA-305'!$A$13=\"X\",IF(F23=\"G\",3,IF(F23=\"F\",2,1)),0)","v":0},{"$f":"IF('ND-CPA-305'!$F$10=\"X\",IF(G23=\"G\",3,IF(G23=\"F\",2,1)),0)","v":0},{"$f":"IF('ND-CPA-305'!$F$11=\"X\",IF(H23=\"G\",3,IF(H23=\"F\",2,1)),0)","v":0},null,{"$f":"IF('ND-CPA-305'!$F$14=\"X\",IF(J23=\"G\",3,IF(J23=\"F\",2,1)),0)","v":0},null,null,null,null,{"$f":"IF('ND-CPA-305'!$A$16=\"X\",IF(O23=\"G\",3,IF(O23=\"F\",2,1)),0)","v":0},null,{"$f":"IF('ND-CPA-305'!$F$13=\"X\",IF(Q23=\"Y\",3,0),0)","v":0},{"$f":"IF('ND-CPA-305'!$A$15=\"X\",IF(R23=\"G\",3,IF(R23=\"F\",2,1)),0)","v":0},{"$f":"IF('ND-CPA-305'!$F$16=\"X\",IF(S23=\"G\",3,IF(S23=\"F\",2,1)),0)","v":0},0]
["pea","P","P","P","G","F","G","F","SL","P","L","CB",75,"1.5 - 3.0","P","L","Y","F","F",0,{"$f":"IF('ND-CPA-305'!$A$10=\"X\",IF(B24=\"G\",3,IF(B24=\"F\",2,1)),0)","v":0},{"$f":"IF('ND-CPA-305'!$A$14=\"X\",IF(C24=\"G\",3,IF(C24=\"F\",2,1)),0)","v":0},{"$f":"IF('ND-CPA-305'!$F$15=\"X\",IF(D24=\"G\",3,IF(D24=\"F\",2,1)),0)","v":0},{"$f":"IF('ND-CPA-305'!$A$12=\"X\",IF(E24=\"G\",3,IF(E24=\"F\",2,1)),0)","v":0},{"$f":"IF('ND-CPA-305'!$A$13=\"X\",IF(F24=\"G\",3,IF(F24=\"F\",2,1)),0)","v":0},{"$f":"IF('ND-CPA-305'!$F$10=\"X\",IF(G24=\"G\",3,IF(G24=\"F\",2,1)),0)","v":0},{"$f":"IF('ND-CPA-305'!$F$11=\"X\",IF(H24=\"G\",3,IF(H24=\"F\",2,1)),0)","v":0},null,{"$f":"IF('ND-CPA-305'!$F$14=\"X\",IF(J24=\"G\",3,IF(J24=\"F\",2,1)),0)","v":0},null,null,null,null,{"$f":"IF('ND-CPA-305'!$A$16=\"X\",IF(O24=\"G\",3,IF(O24=\"F\",2,1)),0)","v":0},null,{"$f":"IF('ND-CPA-305'!$F$13=\"X\",IF(Q24=\"Y\",3,0),0)","v":0},{"$f":"IF('ND-CPA-305'!$A$15=\"X\",IF(R24=\"G\",3,IF(R24=\"F\",2,1)),0)","v":0},{"$f":"IF('ND-CPA-305'!$F$16=\"X\",IF(S24=\"G\",3,IF(S24=\"F\",2,1)),0)","v":0},0]
["phacelia","F","F","F","P","F","P","F","SL","P","F","CB",5,"0.25 - 0.75","P","L","Y","F","G",0,{"$f":"IF('ND-CPA-305'!$A$10=\"X\",IF(B25=\"G\",3,IF(B25=\"F\",2,1)),0)","v":0},{"$f":"IF('ND-CPA-305'!$A$14=\"X\",IF(C25=\"G\",3,IF(C25=\"F\",2,1)),0)","v":0},{"$f":"IF('ND-CPA-305'!$F$15=\"X\",IF(D25=\"G\",3,IF(D25=\"F\",2,1)),0)","v":0},{"$f":"IF('ND-CPA-305'!$A$12=\"X\",IF(E25=\"G\",3,IF(E25=\"F\",2,1)),0)","v":0},{"$f":"IF('ND-CPA-305'!$A$13=\"X\",IF(F25=\"G\",3,IF(F25=\"F\",2,1)),0)","v":0},{"$f":"IF('ND-CPA-305'!$F$10=\"X\",IF(G25=\"G\",3,IF(G25=\"F\",2,1)),0)","v":0},{"$f":"IF('ND-CPA-305'!$F$11=\"X\",IF(H25=\"G\",3,IF(H25=\"F\",2,1)),0)","v":0},null,{"$f":"IF('ND-CPA-305'!$F$14=\"X\",IF(J25=\"G\",3,IF(J25=\"F\",2,1)),0)","v":0},null,null,null,null,{"$f":"IF('ND-CPA-305'!$A$16=\"X\",IF(O25=\"G\",3,IF(O25=\"F\",2,1)),0)","v":0},null,{"$f":"IF('ND-CPA-305'!$F$13=\"X\",IF(Q25=\"Y\",3,0),0)","v":0},{"$f":"IF('ND-CPA-305'!$A$15=\"X\",IF(R25=\"G\",3,IF(R25=\"F\",2,1)),0)","v":0},{"$f":"IF('ND-CPA-305'!$F$16=\"X\",IF(S25=\"G\",3,IF(S25=\"F\",2,1)),0)","v":0},0]
["radish","P","P","G","P","G","P","G","DH","G","F","CB",4,"0.25 - 0.5","P","L","Y","P","F",0,{"$f":"IF('ND-CPA-305'!$A$10=\"X\",IF(B26=\"G\",3,IF(B26=\"F\",2,1)),0)","v":0},{"$f":"IF('ND-CPA-305'!$A$14=\"X\",IF(C26=\"G\",3,IF(C26=\"F\",2,1)),0)","v":0},{"$f":"IF('ND-CPA-305'!$F$15=\"X\",IF(D26=\"G\",3,IF(D26=\"F\",2,1)),0)","v":0},{"$f":"IF('ND-CPA-305'!$A$12=\"X\",IF(E26=\"G\",3,IF(E26=\"F\",2,1)),0)","v":0},{"$f":"IF('ND-CPA-305'!$A$13=\"X\",IF(F26=\"G\",3,IF(F26=\"F\",2,1)),0)","v":0},{"$f":"IF('ND-CPA-305'!$F$10=\"X\",IF(G26=\"G\",3,IF(G26=\"F\",2,1)),0)","v":0},{"$f":"IF('ND-CPA-305'!$F$11=\"X\",IF(H26=\"G\",3,IF(H26=\"F\",2,1)),0)","v":0},null,{"$f":"IF('ND-CPA-305'!$F$14=\"X\",IF(J26=\"G\",3,IF(J26=\"F\",2,1)),0)","v":0},null,null,null,null,{"$f":"IF('ND-CPA-305'!$A$16=\"X\",IF(O26=\"G\",3,IF(O26=\"F\",2,1)),0)","v":0},null,{"$f":"IF('ND-CPA-305'!$F$13=\"X\",IF(Q26=\"Y\",3,0),0)","v":0},{"$f":"IF('ND-CPA-305'!$A$15=\"X\",IF(R26=\"G\",3,IF(R26=\"F\",2,1)),0)","v":0},{"$f":"IF('ND-CPA-305'!$F$16=\"X\",IF(S26=\"G\",3,IF(S26=\"F\",2,1)),0)","v":0},0]
["Red beet","P","P","G","P","F","P","F","DM","G","L","CB",4,"0.5 - 0.75","F","L","Y","P","F",0,{"$f":"IF('ND-CPA-305'!$A$10=\"X\",IF(B27=\"G\",3,IF(B27=\"F\",2,1)),0)","v":0},{"$f":"IF('ND-CPA-305'!$A$14=\"X\",IF(C27=\"G\",3,IF(C27=\"F\",2,1)),0)","v":0},{"$f":"IF('ND-CPA-305'!$F$15=\"X\",IF(D27=\"G\",3,IF(D27=\"F\",2,1)),0)","v":0},{"$f":"IF('ND-CPA-305'!$A$12=\"X\",IF(E27=\"G\",3,IF(E27=\"F\",2,1)),0)","v":0},{"$f":"IF('ND-CPA-305'!$A$13=\"X\",IF(F27=\"G\",3,IF(F27=\"F\",2,1)),0)","v":0},{"$f":"IF('ND-CPA-305'!$F$10=\"X\",IF(G27=\"G\",3,IF(G27=\"F\",2,1)),0)","v":0},{"$f":"IF('ND-CPA-305'!$F$11=\"X\",IF(H27=\"G\",3,IF(H27=\"F\",2,1)),0)","v":0},null,{"$f":"IF('ND-CPA-305'!$F$14=\"X\",IF(J27=\"G\",3,IF(J27=\"F\",2,1)),0)","v":0},null,null,null,null,{"$f":"IF('ND-CPA-305'!$A$16=\"X\",IF(O27=\"G\",3,IF(O27=\"F\",2,1)),0)","v":0},null,{"$f":"IF('ND-CPA-305'!$F$13=\"X\",IF(Q27=\"Y\",3,0),0)","v":0},{"$f":"IF('ND-CPA-305'!$A$15=\"X\",IF(R27=\"G\",3,IF(R27=\"F\",2,1)),0)","v":0},{"$f":"IF('ND-CPA-305'!$F$16=\"X\",IF(S27=\"G\",3,IF(S27=\"F\",2,1)),0)","v":0},0]
["red clover","F","F","F","G","G","F","G","DM","F","F","CB",3,"0.25 - 0.75","P","L","Y","G","F",0,{"$f":"IF('ND-CPA-305'!$A$10=\"X\",IF(B28=\"G\",3,IF(B28=\"F\",2,1)),0)","v":0},{"$f":"IF('ND-CPA-305'!$A$14=\"X\",IF(C28=\"G\",3,IF(C28=\"F\",2,1)),0)","v":0},{"$f":"IF('ND-CPA-305'!$F$15=\"X\",IF(D28=\"G\",3,IF(D28=\"F\",2,1)),0)","v":0},{"$f":"IF('ND-CPA-305'!$A$12=\"X\",IF(E28=\"G\",3,IF(E28=\"F\",2,1)),0)","v":0},{"$f":"IF('ND-CPA-305'!$A$13=\"X\",IF(F28=\"G\",3,IF(F28=\"F\",2,1)),0)","v":0},{"$f":"IF('ND-CPA-305'!$F$10=\"X\",IF(G28=\"G\",3,IF(G28=\"F\",2,1)),0)","v":0},{"$f":"IF('ND-CPA-305'!$F$11=\"X\",IF(H28=\"G\",3,IF(H28=\"F\",2,1)),0)","v":0},null,{"$f":"IF('ND-CPA-305'!$F$14=\"X\",IF(J28=\"G\",3,IF(J28=\"F\",2,1)),0)","v":0},null,null,null,null,{"$f":"IF('ND-CPA-305'!$A$16=\"X\",IF(O28=\"G\",3,IF(O28=\"F\",2,1)),0)","v":0},null,{"$f":"IF('ND-CPA-305'!$F$13=\"X\",IF(Q28=\"Y\",3,0),0)","v":0},{"$f":"IF('ND-CPA-305'!$A$15=\"X\",IF(R28=\"G\",3,IF(R28=\"F\",2,1)),0)","v":0},{"$f":"IF('ND-CPA-305'!$F$16=\"X\",IF(S28=\"G\",3,IF(S28=\"F\",2,1)),0)","v":0},0]
["safflower","F","F","G","P","F","F","G","DH","F","L","WB",30,"1.0 - 1.5","F","M","Y","F","F",0,{"$f":"IF('ND-CPA-305'!$A$10=\"X\",IF(B29=\"G\",3,IF(B29=\"F\",2,1)),0)","v":0},{"$f":"IF('ND-CPA-305'!$A$14=\"X\",IF(C29=\"G\",3,IF(C29=\"F\",2,1)),0)","v":0},{"$f":"IF('ND-CPA-305'!$F$15=\"X\",IF(D29=\"G\",3,IF(D29=\"F\",2,1)),0)","v":0},{"$f":"IF('ND-CPA-305'!$A$12=\"X\",IF(E29=\"G\",3,IF(E29=\"F\",2,1)),0)","v":0},{"$f":"IF('ND-CPA-305'!$A$13=\"X\",IF(F29=\"G\",3,IF(F29=\"F\",2,1)),0)","v":0},{"$f":"IF('ND-CPA-305'!$F$10=\"X\",IF(G29=\"G\",3,IF(G29=\"F\",2,1)),0)","v":0},{"$f":"IF('ND-CPA-305'!$F$11=\"X\",IF(H29=\"G\",3,IF(H29=\"F\",2,1)),0)","v":0},null,{"$f":"IF('ND-CPA-305'!$F$14=\"X\",IF(J29=\"G\",3,IF(J29=\"F\",2,1)),0)","v":0},null,null,null,null,{"$f":"IF('ND-CPA-305'!$A$16=\"X\",IF(O29=\"G\",3,IF(O29=\"F\",2,1)),0)","v":0},null,{"$f":"IF('ND-CPA-305'!$F$13=\"X\",IF(Q29=\"Y\",3,0),0)","v":0},{"$f":"IF('ND-CPA-305'!$A$15=\"X\",IF(R29=\"G\",3,IF(R29=\"F\",2,1)),0)","v":0},{"$f":"IF('ND-CPA-305'!$F$16=\"X\",IF(S29=\"G\",3,IF(S29=\"F\",2,1)),0)","v":0},0]
["sorghum","G","G","G","P","G","G","F","MM","G","L","WG",5,"0.5 - 1.5","P","M","N","G","F",0,{"$f":"IF('ND-CPA-305'!$A$10=\"X\",IF(B30=\"G\",3,IF(B30=\"F\",2,1)),0)","v":0},{"$f":"IF('ND-CPA-305'!$A$14=\"X\",IF(C30=\"G\",3,IF(C30=\"F\",2,1)),0)","v":0},{"$f":"IF('ND-CPA-305'!$F$15=\"X\",IF(D30=\"G\",3,IF(D30=\"F\",2,1)),0)","v":0},{"$f":"IF('ND-CPA-305'!$A$12=\"X\",IF(E30=\"G\",3,IF(E30=\"F\",2,1)),0)","v":0},{"$f":"IF('ND-CPA-305'!$A$13=\"X\",IF(F30=\"G\",3,IF(F30=\"F\",2,1)),0)","v":0},{"$f":"IF('ND-CPA-305'!$F$10=\"X\",IF(G30=\"G\",3,IF(G30=\"F\",2,1)),0)","v":0},{"$f":"IF('ND-CPA-305'!$F$11=\"X\",IF(H30=\"G\",3,IF(H30=\"F\",2,1)),0)","v":0},null,{"$f":"IF('ND-CPA-305'!$F$14=\"X\",IF(J30=\"G\",3,IF(J30=\"F\",2,1)),0)","v":0},null,null,null,null,{"$f":"IF('ND-CPA-305'!$A$16=\"X\",IF(O30=\"G\",3,IF(O30=\"F\",2,1)),0)","v":0},null,{"$f":"IF('ND-CPA-305'!$F$13=\"X\",IF(Q30=\"Y\",3,0),0)","v":0},{"$f":"IF('ND-CPA-305'!$A$15=\"X\",IF(R30=\"G\",3,IF(R30=\"F\",2,1)),0)","v":0},{"$f":"IF('ND-CPA-305'!$F$16=\"X\",IF(S30=\"G\",3,IF(S30=\"F\",2,1)),0)","v":0},0]
["soybean","P","P","F","G","P-G**","F","F","SM","P","L","WB",50,"1.0 - 1.5","P","L","Y","F","F",0,{"$f":"IF('ND-CPA-305'!$A$10=\"X\",IF(B31=\"G\",3,IF(B31=\"F\",2,1)),0)","v":0},{"$f":"IF('ND-CPA-305'!$A$14=\"X\",IF(C31=\"G\",3,IF(C31=\"F\",2,1)),0)","v":0},{"$f":"IF('ND-CPA-305'!$F$15=\"X\",IF(D31=\"G\",3,IF(D31=\"F\",2,1)),0)","v":0},{"$f":"IF('ND-CPA-305'!$A$12=\"X\",IF(E31=\"G\",3,IF(E31=\"F\",2,1)),0)","v":0},{"$f":"IF('ND-CPA-305'!$A$13=\"X\",IF(F31=\"G\",3,IF(F31=\"F\",2,1)),0)","v":0},{"$f":"IF('ND-CPA-305'!$F$10=\"X\",IF(G31=\"G\",3,IF(G31=\"F\",2,1)),0)","v":0},{"$f":"IF('ND-CPA-305'!$F$11=\"X\",IF(H31=\"G\",3,IF(H31=\"F\",2,1)),0)","v":0},null,{"$f":"IF('ND-CPA-305'!$F$14=\"X\",IF(J31=\"G\",3,IF(J31=\"F\",2,1)),0)","v":0},null,null,null,null,{"$f":"IF('ND-CPA-305'!$A$16=\"X\",IF(O31=\"G\",3,IF(O31=\"F\",2,1)),0)","v":0},null,{"$f":"IF('ND-CPA-305'!$F$13=\"X\",IF(Q31=\"Y\",3,0),0)","v":0},{"$f":"IF('ND-CPA-305'!$A$15=\"X\",IF(R31=\"G\",3,IF(R31=\"F\",2,1)),0)","v":0},{"$f":"IF('ND-CPA-305'!$F$16=\"X\",IF(S31=\"G\",3,IF(S31=\"F\",2,1)),0)","v":0},0]
["spring rye or wheat","G","G","G","P","G","F","F","MH","F","L","CG",90,"0.5 - 1.5","F","M","N","P","G",0,{"$f":"IF('ND-CPA-305'!$A$10=\"X\",IF(B32=\"G\",3,IF(B32=\"F\",2,1)),0)","v":0},{"$f":"IF('ND-CPA-305'!$A$14=\"X\",IF(C32=\"G\",3,IF(C32=\"F\",2,1)),0)","v":0},{"$f":"IF('ND-CPA-305'!$F$15=\"X\",IF(D32=\"G\",3,IF(D32=\"F\",2,1)),0)","v":0},{"$f":"IF('ND-CPA-305'!$A$12=\"X\",IF(E32=\"G\",3,IF(E32=\"F\",2,1)),0)","v":0},{"$f":"IF('ND-CPA-305'!$A$13=\"X\",IF(F32=\"G\",3,IF(F32=\"F\",2,1)),0)","v":0},{"$f":"IF('ND-CPA-305'!$F$10=\"X\",IF(G32=\"G\",3,IF(G32=\"F\",2,1)),0)","v":0},{"$f":"IF('ND-CPA-305'!$F$11=\"X\",IF(H32=\"G\",3,IF(H32=\"F\",2,1)),0)","v":0},null,{"$f":"IF('ND-CPA-305'!$F$14=\"X\",IF(J32=\"G\",3,IF(J32=\"F\",2,1)),0)","v":0},null,null,null,null,{"$f":"IF('ND-CPA-305'!$A$16=\"X\",IF(O32=\"G\",3,IF(O32=\"F\",2,1)),0)","v":0},null,{"$f":"IF('ND-CPA-305'!$F$13=\"X\",IF(Q32=\"Y\",3,0),0)","v":0},{"$f":"IF('ND-CPA-305'!$A$15=\"X\",IF(R32=\"G\",3,IF(R32=\"F\",2,1)),0)","v":0},{"$f":"IF('ND-CPA-305'!$F$16=\"X\",IF(S32=\"G\",3,IF(S32=\"F\",2,1)),0)","v":0},0]
["subterranean clover","F","F","F","G","G","F","G","MH","F","F","CB",4,"0.25 - 1.0","P","L","Y","F","F",0,{"$f":"IF('ND-CPA-305'!$A$10=\"X\",IF(B33=\"G\",3,IF(B33=\"F\",2,1)),0)","v":0},{"$f":"IF('ND-CPA-305'!$A$14=\"X\",IF(C33=\"G\",3,IF(C33=\"F\",2,1)),0)","v":0},{"$f":"IF('ND-CPA-305'!$F$15=\"X\",IF(D33=\"G\",3,IF(D33=\"F\",2,1)),0)","v":0},{"$f":"IF('ND-CPA-305'!$A$12=\"X\",IF(E33=\"G\",3,IF(E33=\"F\",2,1)),0)","v":0},{"$f":"IF('ND-CPA-305'!$A$13=\"X\",IF(F33=\"G\",3,IF(F33=\"F\",2,1)),0)","v":0},{"$f":"IF('ND-CPA-305'!$F$10=\"X\",IF(G33=\"G\",3,IF(G33=\"F\",2,1)),0)","v":0},{"$f":"IF('ND-CPA-305'!$F$11=\"X\",IF(H33=\"G\",3,IF(H33=\"F\",2,1)),0)","v":0},null,{"$f":"IF('ND-CPA-305'!$F$14=\"X\",IF(J33=\"G\",3,IF(J33=\"F\",2,1)),0)","v":0},null,null,null,null,{"$f":"IF('ND-CPA-305'!$A$16=\"X\",IF(O33=\"G\",3,IF(O33=\"F\",2,1)),0)","v":0},null,{"$f":"IF('ND-CPA-305'!$F$13=\"X\",IF(Q33=\"Y\",3,0),0)","v":0},{"$f":"IF('ND-CPA-305'!$A$15=\"X\",IF(R33=\"G\",3,IF(R33=\"F\",2,1)),0)","v":0},{"$f":"IF('ND-CPA-305'!$F$16=\"X\",IF(S33=\"G\",3,IF(S33=\"F\",2,1)),0)","v":0},0]
["sudangrass, sudan-sorghum hybrid","G","G","G","P","G","G","G","MM","G","L","WG",25,"0.5 - 1.5","F","M","N","G","F",0,{"$f":"IF('ND-CPA-305'!$A$10=\"X\",IF(B34=\"G\",3,IF(B34=\"F\",2,1)),0)","v":0},{"$f":"IF('ND-CPA-305'!$A$14=\"X\",IF(C34=\"G\",3,IF(C34=\"F\",2,1)),0)","v":0},{"$f":"IF('ND-CPA-305'!$F$15=\"X\",IF(D34=\"G\",3,IF(D34=\"F\",2,1)),0)","v":0},{"$f":"IF('ND-CPA-305'!$A$12=\"X\",IF(E34=\"G\",3,IF(E34=\"F\",2,1)),0)","v":0},{"$f":"IF('ND-CPA-305'!$A$13=\"X\",IF(F34=\"G\",3,IF(F34=\"F\",2,1)),0)","v":0},{"$f":"IF('ND-CPA-305'!$F$10=\"X\",IF(G34=\"G\",3,IF(G34=\"F\",2,1)),0)","v":0},{"$f":"IF('ND-CPA-305'!$F$11=\"X\",IF(H34=\"G\",3,IF(H34=\"F\",2,1)),0)","v":0},null,{"$f":"IF('ND-CPA-305'!$F$14=\"X\",IF(J34=\"G\",3,IF(J34=\"F\",2,1)),0)","v":0},null,null,null,null,{"$f":"IF('ND-CPA-305'!$A$16=\"X\",IF(O34=\"G\",3,IF(O34=\"F\",2,1)),0)","v":0},null,{"$f":"IF('ND-CPA-305'!$F$13=\"X\",IF(Q34=\"Y\",3,0),0)","v":0},{"$f":"IF('ND-CPA-305'!$A$15=\"X\",IF(R34=\"G\",3,IF(R34=\"F\",2,1)),0)","v":0},{"$f":"IF('ND-CPA-305'!$F$16=\"X\",IF(S34=\"G\",3,IF(S34=\"F\",2,1)),0)","v":0},0]
["sugarbeet","P","P","G","P","F","P","G","DH","G","F","CB",2,"0.25 - 0.5","G","L","Y","P","P",0,{"$f":"IF('ND-CPA-305'!$A$10=\"X\",IF(B35=\"G\",3,IF(B35=\"F\",2,1)),0)","v":0},{"$f":"IF('ND-CPA-305'!$A$14=\"X\",IF(C35=\"G\",3,IF(C35=\"F\",2,1)),0)","v":0},{"$f":"IF('ND-CPA-305'!$F$15=\"X\",IF(D35=\"G\",3,IF(D35=\"F\",2,1)),0)","v":0},{"$f":"IF('ND-CPA-305'!$A$12=\"X\",IF(E35=\"G\",3,IF(E35=\"F\",2,1)),0)","v":0},{"$f":"IF('ND-CPA-305'!$A$13=\"X\",IF(F35=\"G\",3,IF(F35=\"F\",2,1)),0)","v":0},{"$f":"IF('ND-CPA-305'!$F$10=\"X\",IF(G35=\"G\",3,IF(G35=\"F\",2,1)),0)","v":0},{"$f":"IF('ND-CPA-305'!$F$11=\"X\",IF(H35=\"G\",3,IF(H35=\"F\",2,1)),0)","v":0},null,{"$f":"IF('ND-CPA-305'!$F$14=\"X\",IF(J35=\"G\",3,IF(J35=\"F\",2,1)),0)","v":0},null,null,null,null,{"$f":"IF('ND-CPA-305'!$A$16=\"X\",IF(O35=\"G\",3,IF(O35=\"F\",2,1)),0)","v":0},null,{"$f":"IF('ND-CPA-305'!$F$13=\"X\",IF(Q35=\"Y\",3,0),0)","v":0},{"$f":"IF('ND-CPA-305'!$A$15=\"X\",IF(R35=\"G\",3,IF(R35=\"F\",2,1)),0)","v":0},{"$f":"IF('ND-CPA-305'!$F$16=\"X\",IF(S35=\"G\",3,IF(S35=\"F\",2,1)),0)","v":0},0]
["sunflower","F","F","G","P","F","P","G","DM","G","L","WB",4,"0.5 - 1.0","F","M","Y","F","P",0,{"$f":"IF('ND-CPA-305'!$A$10=\"X\",IF(B36=\"G\",3,IF(B36=\"F\",2,1)),0)","v":0},{"$f":"IF('ND-CPA-305'!$A$14=\"X\",IF(C36=\"G\",3,IF(C36=\"F\",2,1)),0)","v":0},{"$f":"IF('ND-CPA-305'!$F$15=\"X\",IF(D36=\"G\",3,IF(D36=\"F\",2,1)),0)","v":0},{"$f":"IF('ND-CPA-305'!$A$12=\"X\",IF(E36=\"G\",3,IF(E36=\"F\",2,1)),0)","v":0},{"$f":"IF('ND-CPA-305'!$A$13=\"X\",IF(F36=\"G\",3,IF(F36=\"F\",2,1)),0)","v":0},{"$f":"IF('ND-CPA-305'!$F$10=\"X\",IF(G36=\"G\",3,IF(G36=\"F\",2,1)),0)","v":0},{"$f":"IF('ND-CPA-305'!$F$11=\"X\",IF(H36=\"G\",3,IF(H36=\"F\",2,1)),0)","v":0},null,{"$f":"IF('ND-CPA-305'!$F$14=\"X\",IF(J36=\"G\",3,IF(J36=\"F\",2,1)),0)","v":0},null,null,null,null,{"$f":"IF('ND-CPA-305'!$A$16=\"X\",IF(O36=\"G\",3,IF(O36=\"F\",2,1)),0)","v":0},null,{"$f":"IF('ND-CPA-305'!$F$13=\"X\",IF(Q36=\"Y\",3,0),0)","v":0},{"$f":"IF('ND-CPA-305'!$A$15=\"X\",IF(R36=\"G\",3,IF(R36=\"F\",2,1)),0)","v":0},{"$f":"IF('ND-CPA-305'!$F$16=\"X\",IF(S36=\"G\",3,IF(S36=\"F\",2,1)),0)","v":0},0]
["sunn hemp","F","F","G","G","G","P","P","DH","G","F","WB",5,"0.5 - 1.0","P","L","N/A","F","P",0,{"$f":"IF('ND-CPA-305'!$A$10=\"X\",IF(B37=\"G\",3,IF(B37=\"F\",2,1)),0)","v":0},{"$f":"IF('ND-CPA-305'!$A$14=\"X\",IF(C37=\"G\",3,IF(C37=\"F\",2,1)),0)","v":0},{"$f":"IF('ND-CPA-305'!$F$15=\"X\",IF(D37=\"G\",3,IF(D37=\"F\",2,1)),0)","v":0},{"$f":"IF('ND-CPA-305'!$A$12=\"X\",IF(E37=\"G\",3,IF(E37=\"F\",2,1)),0)","v":0},{"$f":"IF('ND-CPA-305'!$A$13=\"X\",IF(F37=\"G\",3,IF(F37=\"F\",2,1)),0)","v":0},{"$f":"IF('ND-CPA-305'!$F$10=\"X\",IF(G37=\"G\",3,IF(G37=\"F\",2,1)),0)","v":0},{"$f":"IF('ND-CPA-305'!$F$11=\"X\",IF(H37=\"G\",3,IF(H37=\"F\",2,1)),0)","v":0},null,{"$f":"IF('ND-CPA-305'!$F$14=\"X\",IF(J37=\"G\",3,IF(J37=\"F\",2,1)),0)","v":0},null,null,null,null,{"$f":"IF('ND-CPA-305'!$A$16=\"X\",IF(O37=\"G\",3,IF(O37=\"F\",2,1)),0)","v":0},null,{"$f":"IF('ND-CPA-305'!$F$13=\"X\",IF(Q37=\"Y\",3,0),0)","v":0},{"$f":"IF('ND-CPA-305'!$A$15=\"X\",IF(R37=\"G\",3,IF(R37=\"F\",2,1)),0)","v":0},{"$f":"IF('ND-CPA-305'!$F$16=\"X\",IF(S37=\"G\",3,IF(S37=\"F\",2,1)),0)","v":0},0]
["sweet clover","G","F","F","G","F*","P","F","MM","F","F","CB",4,"0.25 - 1.0","F","L","Y","F","G",0,{"$f":"IF('ND-CPA-305'!$A$10=\"X\",IF(B38=\"G\",3,IF(B38=\"F\",2,1)),0)","v":0},{"$f":"IF('ND-CPA-305'!$A$14=\"X\",IF(C38=\"G\",3,IF(C38=\"F\",2,1)),0)","v":0},{"$f":"IF('ND-CPA-305'!$F$15=\"X\",IF(D38=\"G\",3,IF(D38=\"F\",2,1)),0)","v":0},{"$f":"IF('ND-CPA-305'!$A$12=\"X\",IF(E38=\"G\",3,IF(E38=\"F\",2,1)),0)","v":0},{"$f":"IF('ND-CPA-305'!$A$13=\"X\",IF(F38=\"G\",3,IF(F38=\"F\",2,1)),0)","v":0},{"$f":"IF('ND-CPA-305'!$F$10=\"X\",IF(G38=\"G\",3,IF(G38=\"F\",2,1)),0)","v":0},{"$f":"IF('ND-CPA-305'!$F$11=\"X\",IF(H38=\"G\",3,IF(H38=\"F\",2,1)),0)","v":0},null,{"$f":"IF('ND-CPA-305'!$F$14=\"X\",IF(J38=\"G\",3,IF(J38=\"F\",2,1)),0)","v":0},null,null,null,null,{"$f":"IF('ND-CPA-305'!$A$16=\"X\",IF(O38=\"G\",3,IF(O38=\"F\",2,1)),0)","v":0},null,{"$f":"IF('ND-CPA-305'!$F$13=\"X\",IF(Q38=\"Y\",3,0),0)","v":0},{"$f":"IF('ND-CPA-305'!$A$15=\"X\",IF(R38=\"G\",3,IF(R38=\"F\",2,1)),0)","v":0},{"$f":"IF('ND-CPA-305'!$F$16=\"X\",IF(S38=\"G\",3,IF(S38=\"F\",2,1)),0)","v":0},0]
["Teffgrass","G","G","F","P ","G","G","G","SH","P","F","WG",5,"0.25 - 0.5","F","H","N","G","G",0,{"$f":"IF('ND-CPA-305'!$A$10=\"X\",IF(B39=\"G\",3,IF(B39=\"F\",2,1)),0)","v":0},{"$f":"IF('ND-CPA-305'!$A$14=\"X\",IF(C39=\"G\",3,IF(C39=\"F\",2,1)),0)","v":0},{"$f":"IF('ND-CPA-305'!$F$15=\"X\",IF(D39=\"G\",3,IF(D39=\"F\",2,1)),0)","v":0},{"$f":"IF('ND-CPA-305'!$A$12=\"X\",IF(E39=\"G\",3,IF(E39=\"F\",2,1)),0)","v":0},{"$f":"IF('ND-CPA-305'!$A$13=\"X\",IF(F39=\"G\",3,IF(F39=\"F\",2,1)),0)","v":0},{"$f":"IF('ND-CPA-305'!$F$10=\"X\",IF(G39=\"G\",3,IF(G39=\"F\",2,1)),0)","v":0},{"$f":"IF('ND-CPA-305'!$F$11=\"X\",IF(H39=\"G\",3,IF(H39=\"F\",2,1)),0)","v":0},null,{"$f":"IF('ND-CPA-305'!$F$14=\"X\",IF(J39=\"G\",3,IF(J39=\"F\",2,1)),0)","v":0},null,null,null,null,{"$f":"IF('ND-CPA-305'!$A$16=\"X\",IF(O39=\"G\",3,IF(O39=\"F\",2,1)),0)","v":0},null,{"$f":"IF('ND-CPA-305'!$F$13=\"X\",IF(Q39=\"Y\",3,0),0)","v":0},{"$f":"IF('ND-CPA-305'!$A$15=\"X\",IF(R39=\"G\",3,IF(R39=\"F\",2,1)),0)","v":0},{"$f":"IF('ND-CPA-305'!$F$16=\"X\",IF(S39=\"G\",3,IF(S39=\"F\",2,1)),0)","v":0},0]
["triticale","G","G","G","P","G","F","F","MH","F","L","CG",90,"0.5 - 1.5","G","M","N","P","G",0,{"$f":"IF('ND-CPA-305'!$A$10=\"X\",IF(B40=\"G\",3,IF(B40=\"F\",2,1)),0)","v":0},{"$f":"IF('ND-CPA-305'!$A$14=\"X\",IF(C40=\"G\",3,IF(C40=\"F\",2,1)),0)","v":0},{"$f":"IF('ND-CPA-305'!$F$15=\"X\",IF(D40=\"G\",3,IF(D40=\"F\",2,1)),0)","v":0},{"$f":"IF('ND-CPA-305'!$A$12=\"X\",IF(E40=\"G\",3,IF(E40=\"F\",2,1)),0)","v":0},{"$f":"IF('ND-CPA-305'!$A$13=\"X\",IF(F40=\"G\",3,IF(F40=\"F\",2,1)),0)","v":0},{"$f":"IF('ND-CPA-305'!$F$10=\"X\",IF(G40=\"G\",3,IF(G40=\"F\",2,1)),0)","v":0},{"$f":"IF('ND-CPA-305'!$F$11=\"X\",IF(H40=\"G\",3,IF(H40=\"F\",2,1)),0)","v":0},null,{"$f":"IF('ND-CPA-305'!$F$14=\"X\",IF(J40=\"G\",3,IF(J40=\"F\",2,1)),0)","v":0},null,null,null,null,{"$f":"IF('ND-CPA-305'!$A$16=\"X\",IF(O40=\"G\",3,IF(O40=\"F\",2,1)),0)","v":0},null,{"$f":"IF('ND-CPA-305'!$F$13=\"X\",IF(Q40=\"Y\",3,0),0)","v":0},{"$f":"IF('ND-CPA-305'!$A$15=\"X\",IF(R40=\"G\",3,IF(R40=\"F\",2,1)),0)","v":0},{"$f":"IF('ND-CPA-305'!$F$16=\"X\",IF(S40=\"G\",3,IF(S40=\"F\",2,1)),0)","v":0},0]
["turnip","P","P","G","P","G","P","G","DH","G","F","CB",4,"0.25 - 0.5","P","L","Y","P","P",0,{"$f":"IF('ND-CPA-305'!$A$10=\"X\",IF(B41=\"G\",3,IF(B41=\"F\",2,1)),0)","v":0},{"$f":"IF('ND-CPA-305'!$A$14=\"X\",IF(C41=\"G\",3,IF(C41=\"F\",2,1)),0)","v":0},{"$f":"IF('ND-CPA-305'!$F$15=\"X\",IF(D41=\"G\",3,IF(D41=\"F\",2,1)),0)","v":0},{"$f":"IF('ND-CPA-305'!$A$12=\"X\",IF(E41=\"G\",3,IF(E41=\"F\",2,1)),0)","v":0},{"$f":"IF('ND-CPA-305'!$A$13=\"X\",IF(F41=\"G\",3,IF(F41=\"F\",2,1)),0)","v":0},{"$f":"IF('ND-CPA-305'!$F$10=\"X\",IF(G41=\"G\",3,IF(G41=\"F\",2,1)),0)","v":0},{"$f":"IF('ND-CPA-305'!$F$11=\"X\",IF(H41=\"G\",3,IF(H41=\"F\",2,1)),0)","v":0},null,{"$f":"IF('ND-CPA-305'!$F$14=\"X\",IF(J41=\"G\",3,IF(J41=\"F\",2,1)),0)","v":0},null,null,null,null,{"$f":"IF('ND-CPA-305'!$A$16=\"X\",IF(O41=\"G\",3,IF(O41=\"F\",2,1)),0)","v":0},null,{"$f":"IF('ND-CPA-305'!$F$13=\"X\",IF(Q41=\"Y\",3,0),0)","v":0},{"$f":"IF('ND-CPA-305'!$A$15=\"X\",IF(R41=\"G\",3,IF(R41=\"F\",2,1)),0)","v":0},{"$f":"IF('ND-CPA-305'!$F$16=\"X\",IF(S41=\"G\",3,IF(S41=\"F\",2,1)),0)","v":0},0]
["turnip - psaja","F","F","G","P","F","P","G","DH","G","F","CB",4,"0.25 - 0.5","P","L","Y","P","F",0,{"$f":"IF('ND-CPA-305'!$A$10=\"X\",IF(B42=\"G\",3,IF(B42=\"F\",2,1)),0)","v":0},{"$f":"IF('ND-CPA-305'!$A$14=\"X\",IF(C42=\"G\",3,IF(C42=\"F\",2,1)),0)","v":0},{"$f":"IF('ND-CPA-305'!$F$15=\"X\",IF(D42=\"G\",3,IF(D42=\"F\",2,1)),0)","v":0},{"$f":"IF('ND-CPA-305'!$A$12=\"X\",IF(E42=\"G\",3,IF(E42=\"F\",2,1)),0)","v":0},{"$f":"IF('ND-CPA-305'!$A$13=\"X\",IF(F42=\"G\",3,IF(F42=\"F\",2,1)),0)","v":0},{"$f":"IF('ND-CPA-305'!$F$10=\"X\",IF(G42=\"G\",3,IF(G42=\"F\",2,1)),0)","v":0},{"$f":"IF('ND-CPA-305'!$F$11=\"X\",IF(H42=\"G\",3,IF(H42=\"F\",2,1)),0)","v":0},null,{"$f":"IF('ND-CPA-305'!$F$14=\"X\",IF(J42=\"G\",3,IF(J42=\"F\",2,1)),0)","v":0},null,null,null,null,{"$f":"IF('ND-CPA-305'!$A$16=\"X\",IF(O42=\"G\",3,IF(O42=\"F\",2,1)),0)","v":0},null,{"$f":"IF('ND-CPA-305'!$F$13=\"X\",IF(Q42=\"Y\",3,0),0)","v":0},{"$f":"IF('ND-CPA-305'!$A$15=\"X\",IF(R42=\"G\",3,IF(R42=\"F\",2,1)),0)","v":0},{"$f":"IF('ND-CPA-305'!$F$16=\"X\",IF(S42=\"G\",3,IF(S42=\"F\",2,1)),0)","v":0},0]
["white dutch clover","F","F","F","G","P","F","G","MH","P","F","CB",1,"0.25 - 1.0","P","L","Y","P","G",0,{"$f":"IF('ND-CPA-305'!$A$10=\"X\",IF(B43=\"G\",3,IF(B43=\"F\",2,1)),0)","v":0},{"$f":"IF('ND-CPA-305'!$A$14=\"X\",IF(C43=\"G\",3,IF(C43=\"F\",2,1)),0)","v":0},{"$f":"IF('ND-CPA-305'!$F$15=\"X\",IF(D43=\"G\",3,IF(D43=\"F\",2,1)),0)","v":0},{"$f":"IF('ND-CPA-305'!$A$12=\"X\",IF(E43=\"G\",3,IF(E43=\"F\",2,1)),0)","v":0},{"$f":"IF('ND-CPA-305'!$A$13=\"X\",IF(F43=\"G\",3,IF(F43=\"F\",2,1)),0)","v":0},{"$f":"IF('ND-CPA-305'!$F$10=\"X\",IF(G43=\"G\",3,IF(G43=\"F\",2,1)),0)","v":0},{"$f":"IF('ND-CPA-305'!$F$11=\"X\",IF(H43=\"G\",3,IF(H43=\"F\",2,1)),0)","v":0},null,{"$f":"IF('ND-CPA-305'!$F$14=\"X\",IF(J43=\"G\",3,IF(J43=\"F\",2,1)),0)","v":0},null,null,null,null,{"$f":"IF('ND-CPA-305'!$A$16=\"X\",IF(O43=\"G\",3,IF(O43=\"F\",2,1)),0)","v":0},null,{"$f":"IF('ND-CPA-305'!$F$13=\"X\",IF(Q43=\"Y\",3,0),0)","v":0},{"$f":"IF('ND-CPA-305'!$A$15=\"X\",IF(R43=\"G\",3,IF(R43=\"F\",2,1)),0)","v":0},{"$f":"IF('ND-CPA-305'!$F$16=\"X\",IF(S43=\"G\",3,IF(S43=\"F\",2,1)),0)","v":0},0]
["winter canola","F","F","G","P","P-G**","F","F","MM","G","F","CB",5,"0.25 - 0.75","G","L","Y","P","F",0,{"$f":"IF('ND-CPA-305'!$A$10=\"X\",IF(B44=\"G\",3,IF(B44=\"F\",2,1)),0)","v":0},{"$f":"IF('ND-CPA-305'!$A$14=\"X\",IF(C44=\"G\",3,IF(C44=\"F\",2,1)),0)","v":0},{"$f":"IF('ND-CPA-305'!$F$15=\"X\",IF(D44=\"G\",3,IF(D44=\"F\",2,1)),0)","v":0},{"$f":"IF('ND-CPA-305'!$A$12=\"X\",IF(E44=\"G\",3,IF(E44=\"F\",2,1)),0)","v":0},{"$f":"IF('ND-CPA-305'!$A$13=\"X\",IF(F44=\"G\",3,IF(F44=\"F\",2,1)),0)","v":0},{"$f":"IF('ND-CPA-305'!$F$10=\"X\",IF(G44=\"G\",3,IF(G44=\"F\",2,1)),0)","v":0},{"$f":"IF('ND-CPA-305'!$F$11=\"X\",IF(H44=\"G\",3,IF(H44=\"F\",2,1)),0)","v":0},null,{"$f":"IF('ND-CPA-305'!$F$14=\"X\",IF(J44=\"G\",3,IF(J44=\"F\",2,1)),0)","v":0},null,null,null,null,{"$f":"IF('ND-CPA-305'!$A$16=\"X\",IF(O44=\"G\",3,IF(O44=\"F\",2,1)),0)","v":0},null,{"$f":"IF('ND-CPA-305'!$F$13=\"X\",IF(Q44=\"Y\",3,0),0)","v":0},{"$f":"IF('ND-CPA-305'!$A$15=\"X\",IF(R44=\"G\",3,IF(R44=\"F\",2,1)),0)","v":0},{"$f":"IF('ND-CPA-305'!$F$16=\"X\",IF(S44=\"G\",3,IF(S44=\"F\",2,1)),0)","v":0},0]
["winter rye or wheat","G","G","G","P","G","F","F","MH","F","L","CG",90,"0.75 - 2.0","P","M","N","P","F",0,{"$f":"IF('ND-CPA-305'!$A$10=\"X\",IF(B45=\"G\",3,IF(B45=\"F\",2,1)),0)","v":0},{"$f":"IF('ND-CPA-305'!$A$14=\"X\",IF(C45=\"G\",3,IF(C45=\"F\",2,1)),0)","v":0},{"$f":"IF('ND-CPA-305'!$F$15=\"X\",IF(D45=\"G\",3,IF(D45=\"F\",2,1)),0)","v":0},{"$f":"IF('ND-CPA-305'!$A$12=\"X\",IF(E45=\"G\",3,IF(E45=\"F\",2,1)),0)","v":0},{"$f":"IF('ND-CPA-305'!$A$13=\"X\",IF(F45=\"G\",3,IF(F45=\"F\",2,1)),0)","v":0},{"$f":"IF('ND-CPA-305'!$F$10=\"X\",IF(G45=\"G\",3,IF(G45=\"F\",2,1)),0)","v":0},{"$f":"IF('ND-CPA-305'!$F$11=\"X\",IF(H45=\"G\",3,IF(H45=\"F\",2,1)),0)","v":0},null,{"$f":"IF('ND-CPA-305'!$F$14=\"X\",IF(J45=\"G\",3,IF(J45=\"F\",2,1)),0)","v":0},null,null,null,null,{"$f":"IF('ND-CPA-305'!$A$16=\"X\",IF(O45=\"G\",3,IF(O45=\"F\",2,1)),0)","v":0},null,{"$f":"IF('ND-CPA-305'!$F$13=\"X\",IF(Q45=\"Y\",3,0),0)","v":0},{"$f":"IF('ND-CPA-305'!$A$15=\"X\",IF(R45=\"G\",3,IF(R45=\"F\",2,1)),0)","v":0},{"$f":"IF('ND-CPA-305'!$F$16=\"X\",IF(S45=\"G\",3,IF(S45=\"F\",2,1)),0)","v":0},0]
[]
["/1 Rooting Depth/Water Use",null,null,null,null,null,null,null,"/2 Crop types",null,null,null,null,"Ratings"]
["SL=","Shallow rooted/Low water use",null,null,"Shallow =","6 - 18 inches",null,null,"CG =","cool season grass",null,null,null,"L =","Low",null,"G =","Good"]
["SM=","Shallow rooted/Medium water use",null,null,"Medium =","18 - 24 inches",null,null,"CB =","cool season broadleaf",null,null,null,"M =","Medium",null,"F =","Fair"]
["SH=","Shallow rooted/High water use",null,null,"Deep =","24 + inches",null,null,"WB =","warm season broadleaf",null,null,null,"H =","High",null,"P =","Poor"]
["ML=","Medium rooted/Low water use",null,null,null,null,null,null,"WG =","warm season grass",null,null,null,"N/A =","Not Available"]
["MM=","Medium rooted/Medium water use"]
["MH=","Medium rooted/High water use",null,null,null,"*These species are considered invasive on rangeland, avoid use in fields adjacent to rangeland."]
["DL=","Deep rooted/Low water use",null,null,null,"**Poor weed competitor, but herbicide-tolerant varieties are available. "]
["DM=","Deep rooted/Medium water use"]
["DH=","Deep rooted/High water use"]
["Table 1 is compiled from several sources listed below and in the ND NRCS Cover Crop Design and Installation Guide reference section and from field observations across North Dakota."]
["Managing Cover Crops Profitably, 3rd editon, SARE"]
["Cover Crop Chart (v. 1.3) produced by the USDA-ARS Northern Great Plains Research Laboratory (NGPRL), Dr. Mark Liebig."]
["The USDA-NRCS PLANTS Database"]
["Midwest Cover Crops Council website"]
["USDA-SARE publications and website"]
["NDSU-Ext. Service data and publications"]
["Other relevant,  peer-reviewed journal articles on cover crops from multiple sources throughout the U.S. and Canada."]
[]
["Information on specific crops is occasionally generalized and/or approximate, and may not reflect performance in on-farm conditions. NRCS does not guarantee the performance of specific crops based on information provided within the Cover Crop Chart."]

{"sheet":"Photos Sheet","index":3,"n_rows":1,"n_cols":1,"rows_kept":1,"cut":false,"hidden":false,"merged":[[0,0,0,7]]}
["Insert pictures, photos of the cover crop(s), optional documentation."]

{"sheet":"ND-Frost Dates","index":4,"n_rows":51,"n_cols":6,"rows_kept":51,"cut":false,"hidden":false,"merged":[[51,0,51,4],[6,0,6,4],[7,0,7,4],[8,0,8,4],[9,1,9,2],[9,3,9,4]]}
["ProCrop "]
[]
[]
[]
[]
[]
[]
["Average Date of Last Spring Frost and First Fall Frost in North Dakota"]
[]
["Station & County","Average Date of Last Spring Frost",null,"Average Date of First Fall Frost"]
[null,"28 F","32 F","32 F","28 F"]
["Crosby - Divide","2013-05-10","2013-05-18","2013-09-16","2013-09-23","Northwest District"]
["Minot Exp - Ward","2013-05-12","2013-05-20","2013-09-17","2013-09-26"]
["Mohall - Renville","2013-05-11","2013-05-18","2013-09-16","2013-09-23"]
["Parshall - Mountrail","2013-05-15","2013-05-21","2013-09-12","2013-09-18"]
["Powers Lake - Burke","2013-05-15","2013-05-23","2013-09-11","2013-09-23"]
["Williston - Williams","2013-05-04","2013-05-13","2013-09-22","2013-09-28"]
["Bottineau - Bottineau","2013-05-15","2013-05-21","2013-09-15","2013-09-23","North Central District"]
["Granville - McHenry","2013-05-13","2013-05-19","2013-09-15","2013-09-25"]
["Maddock - Benson","2013-05-15","2013-05-23","2013-09-13","2013-09-21"]
["Towner - McHenry","2013-05-14","2013-05-21","2013-09-12","2013-09-21"]
["Grafton - Walsh","2013-05-09","2013-05-18","2013-09-19","2013-09-25","Northeast District"]
["Grand Forks - Grand Forks","2013-05-06","2013-05-16","2013-09-23","2013-09-29"]
["Hansboro - Towner","2013-05-17","2013-05-27","2013-09-11","2013-09-18"]
["Langdon Exp - Cavalier","2013-05-17","2013-05-28","2013-09-13","2013-09-21"]
["Pembina - Pembina","2013-05-12","2013-05-21","2013-09-17","2013-09-25"]
["Dun Center - Dunn","2013-05-12","2013-05-17","2013-09-18","2013-09-27","West Central District"]
["Garrison - McLean","2013-05-08","2013-05-18","2013-09-19","2013-09-25"]
["Washburn - McLean","2013-05-06","2013-05-13","2013-09-24","2013-10-01"]
["Watford City -McKenzie","2013-05-07","2013-05-13","2013-09-19","2013-09-27"]
["Fessenden - Wells","2013-05-08","2013-05-17","2013-09-18","2013-09-26","Central District"]
["Jamestown - Stutsman","2013-05-05","2013-05-15","2013-09-20","2013-09-29"]
["McClusky - Sheridan","2013-05-11","2013-05-20","2013-09-18","2013-09-26"]
["Pettibone - Kidder","2013-05-13","2013-05-22","2013-09-12","2013-09-17"]
["Amenia - Cass","2013-05-06","2013-05-15","2013-09-23","2013-09-28","East Central District"]
["Cooperstown - Griggs","2013-05-11","2013-05-21","2013-09-19","2013-09-26"]
["Fargo - Cass","2013-05-04","2013-05-12","2013-09-26","2013-10-02"]
["Mayville - Traill","2013-05-08","2013-05-17","2013-09-24","2013-10-02"]
["Beach - Golden Valley","2013-05-12","2013-05-20","2013-09-18","2013-09-27","Southwest District"]
["Bowman - Bowman","2013-05-04","2013-05-14","2013-09-21","2013-09-30"]
["Dickinson Exp - Stark","2013-05-12","2013-05-19","2013-09-14","2013-09-22"]
["Hettinger - Adams","2013-05-11","2013-05-18","2013-09-20","2013-09-27"]
["Marmarth - Slope","2013-05-11","2013-05-16","2013-09-15","2013-09-23"]
["Carson #2 - LaMoure","2013-05-11","2013-05-19","2013-09-15","2013-09-24","South Central District"]
["Mandan Exp. -Morton","2013-05-07","2013-05-12","2013-09-23","2013-09-28"]
["Edgeley Exp. - LaMoure","2013-05-11","2013-05-18","2013-09-19","2013-09-28","Southeast District"]
["Lisbon - Ransom","2013-05-10","2013-05-19","2013-09-20","2013-09-27"]
["McLeod - Ransom","2013-05-09","2013-05-15","2013-09-22","2013-09-29"]
["Napoleon - Logan","2013-05-14","2013-05-21","2013-09-16","2013-09-23"]
["Oakes - Dickey","2013-05-05","2013-05-13","2013-09-23","2013-10-01"]
["Wahpeton - Richland","2013-05-04","2013-05-13","2013-09-25","2013-10-03"]